BEGIN:VCALENDAR
VERSION:2.0
PRODID:-//Musikkapelle Wildermieming - ECPv6.15.11//NONSGML v1.0//EN
CALSCALE:GREGORIAN
METHOD:PUBLISH
X-ORIGINAL-URL:https://mk-wildermieming.at
X-WR-CALDESC:Veranstaltungen für Musikkapelle Wildermieming
REFRESH-INTERVAL;VALUE=DURATION:PT1H
X-Robots-Tag:noindex
X-PUBLISHED-TTL:PT1H
BEGIN:VTIMEZONE
TZID:Europe/Vienna
BEGIN:DAYLIGHT
TZOFFSETFROM:+0100
TZOFFSETTO:+0200
TZNAME:CEST
DTSTART:20250330T010000
END:DAYLIGHT
BEGIN:STANDARD
TZOFFSETFROM:+0200
TZOFFSETTO:+0100
TZNAME:CET
DTSTART:20251026T010000
END:STANDARD
BEGIN:DAYLIGHT
TZOFFSETFROM:+0100
TZOFFSETTO:+0200
TZNAME:CEST
DTSTART:20260329T010000
END:DAYLIGHT
BEGIN:STANDARD
TZOFFSETFROM:+0200
TZOFFSETTO:+0100
TZNAME:CET
DTSTART:20261025T010000
END:STANDARD
BEGIN:DAYLIGHT
TZOFFSETFROM:+0100
TZOFFSETTO:+0200
TZNAME:CEST
DTSTART:20270328T010000
END:DAYLIGHT
BEGIN:STANDARD
TZOFFSETFROM:+0200
TZOFFSETTO:+0100
TZNAME:CET
DTSTART:20271031T010000
END:STANDARD
END:VTIMEZONE
BEGIN:VEVENT
DTSTART;TZID=Europe/Vienna:20260605T200000
DTEND;TZID=Europe/Vienna:20260605T220000
DTSTAMP:20260424T185937
CREATED:20250522T150842Z
LAST-MODIFIED:20260414T160116Z
UID:10819-1780689600-1780696800@mk-wildermieming.at
SUMMARY:Probe
DESCRIPTION:
URL:https://mk-wildermieming.at/termin/probe-412/
LOCATION:Musikkapelle Wildermieming\, Dorfstraße 2\, Wildermieming\, Bezirk Innsbruck-Land\, 6413\, Österreich
END:VEVENT
BEGIN:VEVENT
DTSTART;TZID=Europe/Vienna:20260612T200000
DTEND;TZID=Europe/Vienna:20260612T220000
DTSTAMP:20260424T185937
CREATED:20250522T150843Z
LAST-MODIFIED:20260414T160116Z
UID:10820-1781294400-1781301600@mk-wildermieming.at
SUMMARY:Probe
DESCRIPTION:
URL:https://mk-wildermieming.at/termin/probe-413/
LOCATION:Musikkapelle Wildermieming\, Dorfstraße 2\, Wildermieming\, Bezirk Innsbruck-Land\, 6413\, Österreich
END:VEVENT
BEGIN:VEVENT
DTSTART;TZID=Europe/Vienna:20260614T084500
DTEND;TZID=Europe/Vienna:20260614T113000
DTSTAMP:20260424T185937
CREATED:20251111T080145Z
LAST-MODIFIED:20251111T080145Z
UID:11075-1781426700-1781436600@mk-wildermieming.at
SUMMARY:Herz Jesu
DESCRIPTION:
URL:https://mk-wildermieming.at/termin/herz-jesu-10/
LOCATION:Pfarrkirche Hl. Nikolaus\, Dorfstraße 1\, Wildermieming\, Bezirk Innsbruck-Land\, 6413\, Österreich
END:VEVENT
BEGIN:VEVENT
DTSTART;TZID=Europe/Vienna:20260615T200000
DTEND;TZID=Europe/Vienna:20260615T203000
DTSTAMP:20260424T185937
CREATED:20250522T150715Z
LAST-MODIFIED:20250612T160055Z
UID:10640-1781553600-1781555400@mk-wildermieming.at
SUMMARY:Geburtstagsständchen Matthias Fink
DESCRIPTION:
URL:https://mk-wildermieming.at/termin/geburtstagsstaendchen-matthias-fink-5/
LOCATION:Steinweg\, 6413 Wildermieming\, Österreich\, Steinweg \, Wildermieming\, 6413\, Österreich
END:VEVENT
BEGIN:VEVENT
DTSTART;TZID=Europe/Vienna:20260619T200000
DTEND;TZID=Europe/Vienna:20260619T220000
DTSTAMP:20260424T185937
CREATED:20250522T150843Z
LAST-MODIFIED:20260414T160116Z
UID:10821-1781899200-1781906400@mk-wildermieming.at
SUMMARY:Probe
DESCRIPTION:
URL:https://mk-wildermieming.at/termin/probe-414/
LOCATION:Musikkapelle Wildermieming\, Dorfstraße 2\, Wildermieming\, Bezirk Innsbruck-Land\, 6413\, Österreich
END:VEVENT
BEGIN:VEVENT
DTSTART;TZID=Europe/Vienna:20260626T200000
DTEND;TZID=Europe/Vienna:20260626T220000
DTSTAMP:20260424T185937
CREATED:20250522T150844Z
LAST-MODIFIED:20260414T160117Z
UID:10822-1782504000-1782511200@mk-wildermieming.at
SUMMARY:Probe
DESCRIPTION:
URL:https://mk-wildermieming.at/termin/probe-415/
LOCATION:Musikkapelle Wildermieming\, Dorfstraße 2\, Wildermieming\, Bezirk Innsbruck-Land\, 6413\, Österreich
END:VEVENT
BEGIN:VEVENT
DTSTART;TZID=Europe/Vienna:20260628T110000
DTEND;TZID=Europe/Vienna:20260628T130000
DTSTAMP:20260424T185937
CREATED:20251111T080148Z
LAST-MODIFIED:20260327T220103Z
UID:11085-1782644400-1782651600@mk-wildermieming.at
SUMMARY:Platzkonzert
DESCRIPTION:
URL:https://mk-wildermieming.at/termin/platzkonzert-17/
LOCATION:Musikkapelle Wildermieming\, Dorfstraße 2\, Wildermieming\, Bezirk Innsbruck-Land\, 6413\, Österreich
END:VEVENT
BEGIN:VEVENT
DTSTART;TZID=Europe/Vienna:20260703T200000
DTEND;TZID=Europe/Vienna:20260703T220000
DTSTAMP:20260424T185937
CREATED:20250522T150844Z
LAST-MODIFIED:20260414T160117Z
UID:10823-1783108800-1783116000@mk-wildermieming.at
SUMMARY:Probe
DESCRIPTION:
URL:https://mk-wildermieming.at/termin/probe-416/
LOCATION:Musikkapelle Wildermieming\, Dorfstraße 2\, Wildermieming\, Bezirk Innsbruck-Land\, 6413\, Österreich
END:VEVENT
BEGIN:VEVENT
DTSTART;VALUE=DATE:20260709
DTEND;VALUE=DATE:20260713
DTSTAMP:20260424T185937
CREATED:20251229T150240Z
LAST-MODIFIED:20260301T190112Z
UID:11111-1783555200-1783814400@mk-wildermieming.at
SUMMARY:Bezirksmusikfest in Telfs
DESCRIPTION:
URL:https://mk-wildermieming.at/termin/bezirksmusikfest-in-telfs/
LOCATION:Telfs\, Bezirk Innsbruck-Land\, 6410\, Österreich
END:VEVENT
BEGIN:VEVENT
DTSTART;TZID=Europe/Vienna:20260709T190000
DTEND;TZID=Europe/Vienna:20260709T210000
DTSTAMP:20260424T185937
CREATED:20260109T190202Z
LAST-MODIFIED:20260109T190202Z
UID:11142-1783623600-1783630800@mk-wildermieming.at
SUMMARY:Konzert beim Bezirksmusikfest
DESCRIPTION:
URL:https://mk-wildermieming.at/termin/konzert-beim-bezirksmusikfest/
LOCATION:Theater Telfs\, Franz Rimml Straße 4\, Telfs\, Bezirk Innsbruck-Land\, 6410\, Österreich
END:VEVENT
BEGIN:VEVENT
DTSTART;TZID=Europe/Vienna:20260716T200000
DTEND;TZID=Europe/Vienna:20260716T220000
DTSTAMP:20260424T185937
CREATED:20260331T210102Z
LAST-MODIFIED:20260331T210102Z
UID:11362-1784232000-1784239200@mk-wildermieming.at
SUMMARY:Probe
DESCRIPTION:
URL:https://mk-wildermieming.at/termin/probe-495/
LOCATION:Musikkapelle Wildermieming\, Dorfstraße 2\, Wildermieming\, Bezirk Innsbruck-Land\, 6413\, Österreich
END:VEVENT
BEGIN:VEVENT
DTSTART;TZID=Europe/Vienna:20260717T200000
DTEND;TZID=Europe/Vienna:20260717T220000
DTSTAMP:20260424T185937
CREATED:20260301T190111Z
LAST-MODIFIED:20260301T190111Z
UID:11306-1784318400-1784325600@mk-wildermieming.at
SUMMARY:Platzkonzert
DESCRIPTION:
URL:https://mk-wildermieming.at/termin/platzkonzert-19/
LOCATION:Musikkapelle Wildermieming\, Dorfstraße 2\, Wildermieming\, Bezirk Innsbruck-Land\, 6413\, Österreich
END:VEVENT
BEGIN:VEVENT
DTSTART;TZID=Europe/Vienna:20260724T200000
DTEND;TZID=Europe/Vienna:20260724T220000
DTSTAMP:20260424T185937
CREATED:20250522T150846Z
LAST-MODIFIED:20260414T160117Z
UID:10826-1784923200-1784930400@mk-wildermieming.at
SUMMARY:Probe
DESCRIPTION:
URL:https://mk-wildermieming.at/termin/probe-419/
LOCATION:Musikkapelle Wildermieming\, Dorfstraße 2\, Wildermieming\, Bezirk Innsbruck-Land\, 6413\, Österreich
END:VEVENT
BEGIN:VEVENT
DTSTART;TZID=Europe/Vienna:20260726T110000
DTEND;TZID=Europe/Vienna:20260726T120000
DTSTAMP:20260424T185937
CREATED:20260327T200100Z
LAST-MODIFIED:20260327T200100Z
UID:11356-1785063600-1785067200@mk-wildermieming.at
SUMMARY:Ehrenbürger-Ständchen
DESCRIPTION:
URL:https://mk-wildermieming.at/termin/ehrenbuerger-staendchen/
LOCATION:Gemeindeamt\, Dorfstraße 2\, Wildermieming\, Bezirk Innsbruck-Land\, 6413\, Österreich
END:VEVENT
BEGIN:VEVENT
DTSTART;TZID=Europe/Vienna:20260731T200000
DTEND;TZID=Europe/Vienna:20260731T220000
DTSTAMP:20260424T185937
CREATED:20250522T150846Z
LAST-MODIFIED:20260414T160117Z
UID:10827-1785528000-1785535200@mk-wildermieming.at
SUMMARY:Platzkonzert
DESCRIPTION:
URL:https://mk-wildermieming.at/termin/probe-420/
LOCATION:Musikkapelle Wildermieming\, Dorfstraße 2\, Wildermieming\, Bezirk Innsbruck-Land\, 6413\, Österreich
END:VEVENT
BEGIN:VEVENT
DTSTART;TZID=Europe/Vienna:20260806T200000
DTEND;TZID=Europe/Vienna:20260806T203000
DTSTAMP:20260424T185937
CREATED:20251229T150241Z
LAST-MODIFIED:20251229T150241Z
UID:11115-1786046400-1786048200@mk-wildermieming.at
SUMMARY:Geburtstagsständchen Bernhard Wohlfarter
DESCRIPTION:
URL:https://mk-wildermieming.at/termin/geburtstagsstaendchen-bernhard-wohlfarter/
LOCATION:Unterfeld 5\, 6413 Wildermieming\, Österreich\, Brenteweg 5\, Wildermieming\, Bezirk Innsbruck-Land\, 6413\, Österreich
END:VEVENT
BEGIN:VEVENT
DTSTART;TZID=Europe/Vienna:20260807T200000
DTEND;TZID=Europe/Vienna:20260807T220000
DTSTAMP:20260424T185937
CREATED:20250522T150847Z
LAST-MODIFIED:20260414T160118Z
UID:10828-1786132800-1786140000@mk-wildermieming.at
SUMMARY:Probe
DESCRIPTION:
URL:https://mk-wildermieming.at/termin/probe-421/
LOCATION:Musikkapelle Wildermieming\, Dorfstraße 2\, Wildermieming\, Bezirk Innsbruck-Land\, 6413\, Österreich
END:VEVENT
BEGIN:VEVENT
DTSTART;TZID=Europe/Vienna:20260821T200000
DTEND;TZID=Europe/Vienna:20260821T220000
DTSTAMP:20260424T185937
CREATED:20250522T150847Z
LAST-MODIFIED:20260414T160118Z
UID:10830-1787342400-1787349600@mk-wildermieming.at
SUMMARY:Probe
DESCRIPTION:
URL:https://mk-wildermieming.at/termin/probe-423/
LOCATION:Musikkapelle Wildermieming\, Dorfstraße 2\, Wildermieming\, Bezirk Innsbruck-Land\, 6413\, Österreich
END:VEVENT
BEGIN:VEVENT
DTSTART;TZID=Europe/Vienna:20260828T200000
DTEND;TZID=Europe/Vienna:20260828T220000
DTSTAMP:20260424T185937
CREATED:20250522T150848Z
LAST-MODIFIED:20260414T160118Z
UID:10831-1787947200-1787954400@mk-wildermieming.at
SUMMARY:Probe
DESCRIPTION:
URL:https://mk-wildermieming.at/termin/probe-424/
LOCATION:Musikkapelle Wildermieming\, Dorfstraße 2\, Wildermieming\, Bezirk Innsbruck-Land\, 6413\, Österreich
END:VEVENT
BEGIN:VEVENT
DTSTART;TZID=Europe/Vienna:20260904T200000
DTEND;TZID=Europe/Vienna:20260904T220000
DTSTAMP:20260424T185937
CREATED:20250522T150848Z
LAST-MODIFIED:20260414T160118Z
UID:10832-1788552000-1788559200@mk-wildermieming.at
SUMMARY:Probe
DESCRIPTION:
URL:https://mk-wildermieming.at/termin/probe-425/
LOCATION:Musikkapelle Wildermieming\, Dorfstraße 2\, Wildermieming\, Bezirk Innsbruck-Land\, 6413\, Österreich
END:VEVENT
BEGIN:VEVENT
DTSTART;TZID=Europe/Vienna:20260911T200000
DTEND;TZID=Europe/Vienna:20260911T220000
DTSTAMP:20260424T185937
CREATED:20250522T150849Z
LAST-MODIFIED:20260414T160118Z
UID:10833-1789156800-1789164000@mk-wildermieming.at
SUMMARY:Probe
DESCRIPTION:
URL:https://mk-wildermieming.at/termin/probe-426/
LOCATION:Musikkapelle Wildermieming\, Dorfstraße 2\, Wildermieming\, Bezirk Innsbruck-Land\, 6413\, Österreich
END:VEVENT
BEGIN:VEVENT
DTSTART;TZID=Europe/Vienna:20260915T200000
DTEND;TZID=Europe/Vienna:20260915T203000
DTSTAMP:20260424T185937
CREATED:20250522T150259Z
LAST-MODIFIED:20250522T150259Z
UID:10085-1789502400-1789504200@mk-wildermieming.at
SUMMARY:Geburtstagsständchen Robert Marthe
DESCRIPTION:
URL:https://mk-wildermieming.at/termin/geburtstagsstaendchen-robert-marthe-11/
LOCATION:Brenteweg 2\nWildermieming\, Österreich 6413\nTirol\, Brenteweg 2\, Wildermieming\, 6413\, Österreich
END:VEVENT
BEGIN:VEVENT
DTSTART;TZID=Europe/Vienna:20260918T200000
DTEND;TZID=Europe/Vienna:20260918T220000
DTSTAMP:20260424T185937
CREATED:20250522T150849Z
LAST-MODIFIED:20260414T160119Z
UID:10834-1789761600-1789768800@mk-wildermieming.at
SUMMARY:Probe
DESCRIPTION:
URL:https://mk-wildermieming.at/termin/probe-427/
LOCATION:Musikkapelle Wildermieming\, Dorfstraße 2\, Wildermieming\, Bezirk Innsbruck-Land\, 6413\, Österreich
END:VEVENT
BEGIN:VEVENT
DTSTART;TZID=Europe/Vienna:20260925T200000
DTEND;TZID=Europe/Vienna:20260925T220000
DTSTAMP:20260424T185937
CREATED:20250522T150850Z
LAST-MODIFIED:20260414T160119Z
UID:10835-1790366400-1790373600@mk-wildermieming.at
SUMMARY:Probe
DESCRIPTION:
URL:https://mk-wildermieming.at/termin/probe-428/
LOCATION:Musikkapelle Wildermieming\, Dorfstraße 2\, Wildermieming\, Bezirk Innsbruck-Land\, 6413\, Österreich
END:VEVENT
BEGIN:VEVENT
DTSTART;TZID=Europe/Vienna:20261002T200000
DTEND;TZID=Europe/Vienna:20261002T220000
DTSTAMP:20260424T185937
CREATED:20250522T150850Z
LAST-MODIFIED:20260414T160119Z
UID:10836-1790971200-1790978400@mk-wildermieming.at
SUMMARY:Probe
DESCRIPTION:
URL:https://mk-wildermieming.at/termin/probe-429/
LOCATION:Musikkapelle Wildermieming\, Dorfstraße 2\, Wildermieming\, Bezirk Innsbruck-Land\, 6413\, Österreich
END:VEVENT
BEGIN:VEVENT
DTSTART;TZID=Europe/Vienna:20261004T100000
DTEND;TZID=Europe/Vienna:20261004T120000
DTSTAMP:20260424T185937
CREATED:20251111T090152Z
LAST-MODIFIED:20251111T090152Z
UID:11089-1791108000-1791115200@mk-wildermieming.at
SUMMARY:Erntedank
DESCRIPTION:
URL:https://mk-wildermieming.at/termin/erntedank-13/
LOCATION:Pfarrkirche Hl. Nikolaus\, Dorfstraße 1\, Wildermieming\, Bezirk Innsbruck-Land\, 6413\, Österreich
END:VEVENT
BEGIN:VEVENT
DTSTART;TZID=Europe/Vienna:20261009T200000
DTEND;TZID=Europe/Vienna:20261009T220000
DTSTAMP:20260424T185937
CREATED:20250522T150850Z
LAST-MODIFIED:20260414T160119Z
UID:10837-1791576000-1791583200@mk-wildermieming.at
SUMMARY:Probe
DESCRIPTION:
URL:https://mk-wildermieming.at/termin/probe-430/
LOCATION:Musikkapelle Wildermieming\, Dorfstraße 2\, Wildermieming\, Bezirk Innsbruck-Land\, 6413\, Österreich
END:VEVENT
BEGIN:VEVENT
DTSTART;TZID=Europe/Vienna:20261010T200000
DTEND;TZID=Europe/Vienna:20261010T203000
DTSTAMP:20260424T185937
CREATED:20251229T150240Z
LAST-MODIFIED:20251229T150240Z
UID:11113-1791662400-1791664200@mk-wildermieming.at
SUMMARY:Geburtstagsständchen Michael Jäger
DESCRIPTION:
URL:https://mk-wildermieming.at/termin/geburtstagsstaendchen-michael-jaeger-2/
LOCATION:Graben 17\, 6414 Affenhausen\, Österreich\, Graben 17\, Wildermieming\, Bezirk Innsbruck-Land\, 6413\, Österreich
END:VEVENT
BEGIN:VEVENT
DTSTART;TZID=Europe/Vienna:20261016T200000
DTEND;TZID=Europe/Vienna:20261016T220000
DTSTAMP:20260424T185937
CREATED:20250522T150851Z
LAST-MODIFIED:20260414T160119Z
UID:10838-1792180800-1792188000@mk-wildermieming.at
SUMMARY:Probe
DESCRIPTION:
URL:https://mk-wildermieming.at/termin/probe-431/
LOCATION:Musikkapelle Wildermieming\, Dorfstraße 2\, Wildermieming\, Bezirk Innsbruck-Land\, 6413\, Österreich
END:VEVENT
BEGIN:VEVENT
DTSTART;TZID=Europe/Vienna:20261023T200000
DTEND;TZID=Europe/Vienna:20261023T220000
DTSTAMP:20260424T185937
CREATED:20250522T150851Z
LAST-MODIFIED:20260414T160120Z
UID:10839-1792785600-1792792800@mk-wildermieming.at
SUMMARY:Probe
DESCRIPTION:
URL:https://mk-wildermieming.at/termin/probe-432/
LOCATION:Musikkapelle Wildermieming\, Dorfstraße 2\, Wildermieming\, Bezirk Innsbruck-Land\, 6413\, Österreich
END:VEVENT
END:VCALENDAR