BEGIN:VCALENDAR
VERSION:2.0
PRODID:-//Musikkapelle Wildermieming - ECPv6.15.11//NONSGML v1.0//EN
CALSCALE:GREGORIAN
METHOD:PUBLISH
X-WR-CALNAME:Musikkapelle Wildermieming
X-ORIGINAL-URL:https://mk-wildermieming.at
X-WR-CALDESC:Veranstaltungen für Musikkapelle Wildermieming
REFRESH-INTERVAL;VALUE=DURATION:PT1H
X-Robots-Tag:noindex
X-PUBLISHED-TTL:PT1H
BEGIN:VTIMEZONE
TZID:Europe/Vienna
BEGIN:DAYLIGHT
TZOFFSETFROM:+0100
TZOFFSETTO:+0200
TZNAME:CEST
DTSTART:20240331T010000
END:DAYLIGHT
BEGIN:STANDARD
TZOFFSETFROM:+0200
TZOFFSETTO:+0100
TZNAME:CET
DTSTART:20241027T010000
END:STANDARD
BEGIN:DAYLIGHT
TZOFFSETFROM:+0100
TZOFFSETTO:+0200
TZNAME:CEST
DTSTART:20250330T010000
END:DAYLIGHT
BEGIN:STANDARD
TZOFFSETFROM:+0200
TZOFFSETTO:+0100
TZNAME:CET
DTSTART:20251026T010000
END:STANDARD
BEGIN:DAYLIGHT
TZOFFSETFROM:+0100
TZOFFSETTO:+0200
TZNAME:CEST
DTSTART:20260329T010000
END:DAYLIGHT
BEGIN:STANDARD
TZOFFSETFROM:+0200
TZOFFSETTO:+0100
TZNAME:CET
DTSTART:20261025T010000
END:STANDARD
END:VTIMEZONE
BEGIN:VEVENT
DTSTART;VALUE=DATE:20250413
DTEND;VALUE=DATE:20250414
DTSTAMP:20260425T124751
CREATED:20250522T150807Z
LAST-MODIFIED:20250522T150807Z
UID:10755-1744502400-1744588799@mk-wildermieming.at
SUMMARY:Palmsonntagskonzert der MK Burgstall
DESCRIPTION:
URL:https://mk-wildermieming.at/termin/palmsonntagskonzert-der-mk-burgstall-9/
LOCATION:Kurhaus Merano\, C.So Della Libertà 33\, Merano\, 39012\, Italien
END:VEVENT
END:VCALENDAR