BEGIN:VCALENDAR
VERSION:2.0
PRODID:-//Musikkapelle Wildermieming - ECPv6.15.11//NONSGML v1.0//EN
CALSCALE:GREGORIAN
METHOD:PUBLISH
X-WR-CALNAME:Musikkapelle Wildermieming
X-ORIGINAL-URL:https://mk-wildermieming.at
X-WR-CALDESC:Veranstaltungen für Musikkapelle Wildermieming
REFRESH-INTERVAL;VALUE=DURATION:PT1H
X-Robots-Tag:noindex
X-PUBLISHED-TTL:PT1H
BEGIN:VTIMEZONE
TZID:Europe/Vienna
BEGIN:DAYLIGHT
TZOFFSETFROM:+0100
TZOFFSETTO:+0200
TZNAME:CEST
DTSTART:20260329T010000
END:DAYLIGHT
BEGIN:STANDARD
TZOFFSETFROM:+0200
TZOFFSETTO:+0100
TZNAME:CET
DTSTART:20261025T010000
END:STANDARD
BEGIN:DAYLIGHT
TZOFFSETFROM:+0100
TZOFFSETTO:+0200
TZNAME:CEST
DTSTART:20270328T010000
END:DAYLIGHT
BEGIN:STANDARD
TZOFFSETFROM:+0200
TZOFFSETTO:+0100
TZNAME:CET
DTSTART:20271031T010000
END:STANDARD
BEGIN:DAYLIGHT
TZOFFSETFROM:+0100
TZOFFSETTO:+0200
TZNAME:CEST
DTSTART:20280326T010000
END:DAYLIGHT
BEGIN:STANDARD
TZOFFSETFROM:+0200
TZOFFSETTO:+0100
TZNAME:CET
DTSTART:20281029T010000
END:STANDARD
END:VTIMEZONE
BEGIN:VEVENT
DTSTART;TZID=Europe/Vienna:20270615T200000
DTEND;TZID=Europe/Vienna:20270615T203000
DTSTAMP:20260425T160000
CREATED:20250615T220056Z
LAST-MODIFIED:20250615T220056Z
UID:11003-1813089600-1813091400@mk-wildermieming.at
SUMMARY:Geburtstagsständchen Matthias Fink
DESCRIPTION:
URL:https://mk-wildermieming.at/termin/geburtstagsstaendchen-matthias-fink-9/
LOCATION:Steinweg\, 6413 Wildermieming\, Österreich\, Steinweg \, Wildermieming\, 6413\, Österreich
END:VEVENT
END:VCALENDAR