BEGIN:VCALENDAR
VERSION:2.0
PRODID:-//Musikkapelle Wildermieming - ECPv6.15.11//NONSGML v1.0//EN
CALSCALE:GREGORIAN
METHOD:PUBLISH
X-WR-CALNAME:Musikkapelle Wildermieming
X-ORIGINAL-URL:https://mk-wildermieming.at
X-WR-CALDESC:Veranstaltungen für Musikkapelle Wildermieming
REFRESH-INTERVAL;VALUE=DURATION:PT1H
X-Robots-Tag:noindex
X-PUBLISHED-TTL:PT1H
BEGIN:VTIMEZONE
TZID:Europe/Vienna
BEGIN:DAYLIGHT
TZOFFSETFROM:+0100
TZOFFSETTO:+0200
TZNAME:CEST
DTSTART:20250330T010000
END:DAYLIGHT
BEGIN:STANDARD
TZOFFSETFROM:+0200
TZOFFSETTO:+0100
TZNAME:CET
DTSTART:20251026T010000
END:STANDARD
BEGIN:DAYLIGHT
TZOFFSETFROM:+0100
TZOFFSETTO:+0200
TZNAME:CEST
DTSTART:20260329T010000
END:DAYLIGHT
BEGIN:STANDARD
TZOFFSETFROM:+0200
TZOFFSETTO:+0100
TZNAME:CET
DTSTART:20261025T010000
END:STANDARD
BEGIN:DAYLIGHT
TZOFFSETFROM:+0100
TZOFFSETTO:+0200
TZNAME:CEST
DTSTART:20270328T010000
END:DAYLIGHT
BEGIN:STANDARD
TZOFFSETFROM:+0200
TZOFFSETTO:+0100
TZNAME:CET
DTSTART:20271031T010000
END:STANDARD
END:VTIMEZONE
BEGIN:VEVENT
DTSTART;TZID=Europe/Vienna:20260418T200000
DTEND;TZID=Europe/Vienna:20260418T220000
DTSTAMP:20260424T174905
CREATED:20250522T200055Z
LAST-MODIFIED:20251017T200057Z
UID:10985-1776542400-1776549600@mk-wildermieming.at
SUMMARY:Frühjahrskonzert
DESCRIPTION:
URL:https://mk-wildermieming.at/termin/fruehjahrskonzert-11/
LOCATION:Gemeindeamt\, Dorfstraße 2\, Wildermieming\, Bezirk Innsbruck-Land\, 6413\, Österreich
END:VEVENT
BEGIN:VEVENT
DTSTART;TZID=Europe/Vienna:20260417T200000
DTEND;TZID=Europe/Vienna:20260417T220000
DTSTAMP:20260424T174905
CREATED:20250522T150839Z
LAST-MODIFIED:20260414T160115Z
UID:10812-1776456000-1776463200@mk-wildermieming.at
SUMMARY:Probe
DESCRIPTION:
URL:https://mk-wildermieming.at/termin/probe-405/
LOCATION:Musikkapelle Wildermieming\, Dorfstraße 2\, Wildermieming\, Bezirk Innsbruck-Land\, 6413\, Österreich
END:VEVENT
BEGIN:VEVENT
DTSTART;TZID=Europe/Vienna:20260416T190000
DTEND;TZID=Europe/Vienna:20260416T210000
DTSTAMP:20260424T174905
CREATED:20260311T200104Z
LAST-MODIFIED:20260414T160137Z
UID:11332-1776366000-1776373200@mk-wildermieming.at
SUMMARY:Probe
DESCRIPTION:
URL:https://mk-wildermieming.at/termin/probe-491/
LOCATION:Musikkapelle Wildermieming\, Dorfstraße 2\, Wildermieming\, Bezirk Innsbruck-Land\, 6413\, Österreich
END:VEVENT
BEGIN:VEVENT
DTSTART;TZID=Europe/Vienna:20260414T190000
DTEND;TZID=Europe/Vienna:20260414T210000
DTSTAMP:20260424T174905
CREATED:20260311T200103Z
LAST-MODIFIED:20260330T070104Z
UID:11331-1776193200-1776200400@mk-wildermieming.at
SUMMARY:Probe
DESCRIPTION:
URL:https://mk-wildermieming.at/termin/probe-490/
LOCATION:Musikkapelle Wildermieming\, Dorfstraße 2\, Wildermieming\, Bezirk Innsbruck-Land\, 6413\, Österreich
END:VEVENT
BEGIN:VEVENT
DTSTART;TZID=Europe/Vienna:20260410T200000
DTEND;TZID=Europe/Vienna:20260410T220000
DTSTAMP:20260424T174905
CREATED:20250522T150839Z
LAST-MODIFIED:20260414T160115Z
UID:10811-1775851200-1775858400@mk-wildermieming.at
SUMMARY:Probe
DESCRIPTION:
URL:https://mk-wildermieming.at/termin/probe-404/
LOCATION:Musikkapelle Wildermieming\, Dorfstraße 2\, Wildermieming\, Bezirk Innsbruck-Land\, 6413\, Österreich
END:VEVENT
BEGIN:VEVENT
DTSTART;TZID=Europe/Vienna:20260409T200000
DTEND;TZID=Europe/Vienna:20260409T220000
DTSTAMP:20260424T174905
CREATED:20260402T060105Z
LAST-MODIFIED:20260414T160137Z
UID:11368-1775764800-1775772000@mk-wildermieming.at
SUMMARY:Probe
DESCRIPTION:
URL:https://mk-wildermieming.at/termin/probe-498/
LOCATION:Musikkapelle Wildermieming\, Dorfstraße 2\, Wildermieming\, Bezirk Innsbruck-Land\, 6413\, Österreich
END:VEVENT
BEGIN:VEVENT
DTSTART;TZID=Europe/Vienna:20260407T200000
DTEND;TZID=Europe/Vienna:20260407T220000
DTSTAMP:20260424T174905
CREATED:20260330T070103Z
LAST-MODIFIED:20260330T070103Z
UID:11358-1775592000-1775599200@mk-wildermieming.at
SUMMARY:Probe
DESCRIPTION:
URL:https://mk-wildermieming.at/termin/probe-494/
LOCATION:Musikkapelle Wildermieming\, Dorfstraße 2\, Wildermieming\, Bezirk Innsbruck-Land\, 6413\, Österreich
END:VEVENT
BEGIN:VEVENT
DTSTART;TZID=Europe/Vienna:20260331T200000
DTEND;TZID=Europe/Vienna:20260331T220000
DTSTAMP:20260424T174905
CREATED:20260311T230111Z
LAST-MODIFIED:20260311T230111Z
UID:11334-1774987200-1774994400@mk-wildermieming.at
SUMMARY:Probe
DESCRIPTION:
URL:https://mk-wildermieming.at/termin/probe-407/
LOCATION:Musikkapelle Wildermieming\, Dorfstraße 2\, Wildermieming\, Bezirk Innsbruck-Land\, 6413\, Österreich
END:VEVENT
BEGIN:VEVENT
DTSTART;TZID=Europe/Vienna:20260327T200000
DTEND;TZID=Europe/Vienna:20260327T220000
DTSTAMP:20260424T174906
CREATED:20250522T150838Z
LAST-MODIFIED:20260414T160115Z
UID:10809-1774641600-1774648800@mk-wildermieming.at
SUMMARY:Probe
DESCRIPTION:
URL:https://mk-wildermieming.at/termin/probe-402/
LOCATION:Musikkapelle Wildermieming\, Dorfstraße 2\, Wildermieming\, Bezirk Innsbruck-Land\, 6413\, Österreich
END:VEVENT
BEGIN:VEVENT
DTSTART;TZID=Europe/Vienna:20260325T200000
DTEND;TZID=Europe/Vienna:20260325T220000
DTSTAMP:20260424T174906
CREATED:20260322T120058Z
LAST-MODIFIED:20260322T120058Z
UID:11352-1774468800-1774476000@mk-wildermieming.at
SUMMARY:Teilprobe Hohes Blech
DESCRIPTION:
URL:https://mk-wildermieming.at/termin/teilprobe-hohes-blech-4/
LOCATION:Musikkapelle Wildermieming\, Dorfstraße 2\, Wildermieming\, Bezirk Innsbruck-Land\, 6413\, Österreich
END:VEVENT
BEGIN:VEVENT
DTSTART;TZID=Europe/Vienna:20260324T200000
DTEND;TZID=Europe/Vienna:20260324T220000
DTSTAMP:20260424T174906
CREATED:20260311T230113Z
LAST-MODIFIED:20260311T230113Z
UID:11336-1774382400-1774389600@mk-wildermieming.at
SUMMARY:Teilprobe Klarinetten
DESCRIPTION:
URL:https://mk-wildermieming.at/termin/teilprobe-klarinetten-5/
LOCATION:Musikkapelle Wildermieming\, Dorfstraße 2\, Wildermieming\, Bezirk Innsbruck-Land\, 6413\, Österreich
END:VEVENT
BEGIN:VEVENT
DTSTART;TZID=Europe/Vienna:20260320T200000
DTEND;TZID=Europe/Vienna:20260320T220000
DTSTAMP:20260424T174906
CREATED:20250522T150837Z
LAST-MODIFIED:20260414T160114Z
UID:10808-1774036800-1774044000@mk-wildermieming.at
SUMMARY:Probe
DESCRIPTION:
URL:https://mk-wildermieming.at/termin/probe-401/
LOCATION:Musikkapelle Wildermieming\, Dorfstraße 2\, Wildermieming\, Bezirk Innsbruck-Land\, 6413\, Österreich
END:VEVENT
BEGIN:VEVENT
DTSTART;TZID=Europe/Vienna:20260317T200000
DTEND;TZID=Europe/Vienna:20260317T220000
DTSTAMP:20260424T174906
CREATED:20260310T210105Z
LAST-MODIFIED:20260310T210105Z
UID:11326-1773777600-1773784800@mk-wildermieming.at
SUMMARY:Teilprobe Hohes Blech
DESCRIPTION:
URL:https://mk-wildermieming.at/termin/teilprobe-hohes-blech-3/
LOCATION:Musikkapelle Wildermieming\, Dorfstraße 2\, Wildermieming\, Bezirk Innsbruck-Land\, 6413\, Österreich
END:VEVENT
BEGIN:VEVENT
DTSTART;TZID=Europe/Vienna:20260313T200000
DTEND;TZID=Europe/Vienna:20260313T220000
DTSTAMP:20260424T174906
CREATED:20250522T150837Z
LAST-MODIFIED:20260414T160114Z
UID:10807-1773432000-1773439200@mk-wildermieming.at
SUMMARY:Probe
DESCRIPTION:
URL:https://mk-wildermieming.at/termin/probe-400/
LOCATION:Musikkapelle Wildermieming\, Dorfstraße 2\, Wildermieming\, Bezirk Innsbruck-Land\, 6413\, Österreich
END:VEVENT
BEGIN:VEVENT
DTSTART;TZID=Europe/Vienna:20260310T203000
DTEND;TZID=Europe/Vienna:20260310T220000
DTSTAMP:20260424T174906
CREATED:20260330T070104Z
LAST-MODIFIED:20260330T070104Z
UID:11361-1773174600-1773180000@mk-wildermieming.at
SUMMARY:Teilprobe Holz
DESCRIPTION:
URL:https://mk-wildermieming.at/termin/teilprobe-holz-28/
LOCATION:Musikkapelle Wildermieming\, Dorfstraße 2\, Wildermieming\, Bezirk Innsbruck-Land\, 6413\, Österreich
END:VEVENT
BEGIN:VEVENT
DTSTART;TZID=Europe/Vienna:20260310T190000
DTEND;TZID=Europe/Vienna:20260310T203000
DTSTAMP:20260424T174906
CREATED:20260330T070104Z
LAST-MODIFIED:20260330T070104Z
UID:11360-1773169200-1773174600@mk-wildermieming.at
SUMMARY:Teilprobe Blech
DESCRIPTION:
URL:https://mk-wildermieming.at/termin/teilprobe-blech-21/
LOCATION:Musikkapelle Wildermieming\, Dorfstraße 2\, Wildermieming\, Bezirk Innsbruck-Land\, 6413\, Österreich
END:VEVENT
BEGIN:VEVENT
DTSTART;TZID=Europe/Vienna:20260306T200000
DTEND;TZID=Europe/Vienna:20260306T220000
DTSTAMP:20260424T174906
CREATED:20250522T150836Z
LAST-MODIFIED:20260414T160114Z
UID:10806-1772827200-1772834400@mk-wildermieming.at
SUMMARY:Probe
DESCRIPTION:
URL:https://mk-wildermieming.at/termin/probe-399/
LOCATION:Musikkapelle Wildermieming\, Dorfstraße 2\, Wildermieming\, Bezirk Innsbruck-Land\, 6413\, Österreich
END:VEVENT
BEGIN:VEVENT
DTSTART;TZID=Europe/Vienna:20260303T203000
DTEND;TZID=Europe/Vienna:20260303T220000
DTSTAMP:20260424T174906
CREATED:20260311T230154Z
LAST-MODIFIED:20260311T230154Z
UID:11346-1772569800-1772575200@mk-wildermieming.at
SUMMARY:Teilprobe Blech
DESCRIPTION:
URL:https://mk-wildermieming.at/termin/teilprobe-blech-19/
LOCATION:Musikkapelle Wildermieming\, Dorfstraße 2\, Wildermieming\, Bezirk Innsbruck-Land\, 6413\, Österreich
END:VEVENT
BEGIN:VEVENT
DTSTART;TZID=Europe/Vienna:20260303T190000
DTEND;TZID=Europe/Vienna:20260303T203000
DTSTAMP:20260424T174906
CREATED:20260311T230154Z
LAST-MODIFIED:20260311T230154Z
UID:11347-1772564400-1772569800@mk-wildermieming.at
SUMMARY:Teilprobe Holz
DESCRIPTION:
URL:https://mk-wildermieming.at/termin/teilprobe-holz-29/
LOCATION:Musikkapelle Wildermieming\, Dorfstraße 2\, Wildermieming\, Bezirk Innsbruck-Land\, 6413\, Österreich
END:VEVENT
BEGIN:VEVENT
DTSTART;VALUE=DATE:20260301
DTEND;VALUE=DATE:20260302
DTSTAMP:20260424T174906
CREATED:20250522T200056Z
LAST-MODIFIED:20260224T120109Z
UID:10988-1772357400-1772368200@mk-wildermieming.at
SUMMARY:Tagesprobe mit Philipp Kufner
DESCRIPTION:
URL:https://mk-wildermieming.at/termin/ganztagesprobe-3/
LOCATION:Musikkapelle Wildermieming\, Dorfstraße 2\, Wildermieming\, Bezirk Innsbruck-Land\, 6413\, Österreich
END:VEVENT
BEGIN:VEVENT
DTSTART;TZID=Europe/Vienna:20260227T200000
DTEND;TZID=Europe/Vienna:20260227T220000
DTSTAMP:20260424T174906
CREATED:20250522T150836Z
LAST-MODIFIED:20260414T160114Z
UID:10805-1772222400-1772229600@mk-wildermieming.at
SUMMARY:Probe
DESCRIPTION:
URL:https://mk-wildermieming.at/termin/probe-398/
LOCATION:Musikkapelle Wildermieming\, Dorfstraße 2\, Wildermieming\, Bezirk Innsbruck-Land\, 6413\, Österreich
END:VEVENT
BEGIN:VEVENT
DTSTART;TZID=Europe/Vienna:20260224T200000
DTEND;TZID=Europe/Vienna:20260224T220000
DTSTAMP:20260424T174906
CREATED:20260224T170114Z
LAST-MODIFIED:20260224T170114Z
UID:11293-1771963200-1771970400@mk-wildermieming.at
SUMMARY:Probe
DESCRIPTION:
URL:https://mk-wildermieming.at/termin/probe-497/
LOCATION:Musikkapelle Wildermieming\, Dorfstraße 2\, Wildermieming\, Bezirk Innsbruck-Land\, 6413\, Österreich
END:VEVENT
BEGIN:VEVENT
DTSTART;TZID=Europe/Vienna:20260220T200000
DTEND;TZID=Europe/Vienna:20260220T220000
DTSTAMP:20260424T174906
CREATED:20250522T150835Z
LAST-MODIFIED:20260414T160113Z
UID:10804-1771617600-1771624800@mk-wildermieming.at
SUMMARY:Probe
DESCRIPTION:
URL:https://mk-wildermieming.at/termin/probe-397/
LOCATION:Musikkapelle Wildermieming\, Dorfstraße 2\, Wildermieming\, Bezirk Innsbruck-Land\, 6413\, Österreich
END:VEVENT
BEGIN:VEVENT
DTSTART;TZID=Europe/Vienna:20260217T140000
DTEND;TZID=Europe/Vienna:20260217T160000
DTSTAMP:20260424T174906
CREATED:20251111T080144Z
LAST-MODIFIED:20251111T080144Z
UID:11073-1771336800-1771344000@mk-wildermieming.at
SUMMARY:Kinderfasching
DESCRIPTION:
URL:https://mk-wildermieming.at/termin/kinderfasching-4/
LOCATION:Wildermieming Gemeindeamt\, Dorfstraße \, Wildermieming\, Bezirk Innsbruck-Land\, 6413\, Österreich
END:VEVENT
BEGIN:VEVENT
DTSTART;VALUE=DATE:20260215
DTEND;VALUE=DATE:20260216
DTSTAMP:20260424T174906
CREATED:20251104T180253Z
LAST-MODIFIED:20251104T180253Z
UID:11064-1771113600-1771199999@mk-wildermieming.at
SUMMARY:Fasnacht
DESCRIPTION:
URL:https://mk-wildermieming.at/termin/fasnacht-2/
LOCATION:Wildermieming\, Bezirk Innsbruck-Land\, 6413\, Österreich
END:VEVENT
BEGIN:VEVENT
DTSTART;TZID=Europe/Vienna:20260213T200000
DTEND;TZID=Europe/Vienna:20260214T030000
DTSTAMP:20260424T174906
CREATED:20251111T080147Z
LAST-MODIFIED:20260128T210147Z
UID:11084-1771012800-1771038000@mk-wildermieming.at
SUMMARY:Fasnachtswagen
DESCRIPTION:
URL:https://mk-wildermieming.at/termin/fasnachtswagen-4/
LOCATION:Gemeindeamt\, Dorfstraße 2\, Wildermieming\, Bezirk Innsbruck-Land\, 6413\, Österreich
END:VEVENT
BEGIN:VEVENT
DTSTART;TZID=Europe/Vienna:20260210T200000
DTEND;TZID=Europe/Vienna:20260210T220000
DTSTAMP:20260424T174906
CREATED:20260204T120130Z
LAST-MODIFIED:20260204T120130Z
UID:11264-1770753600-1770760800@mk-wildermieming.at
SUMMARY:Probe
DESCRIPTION:
URL:https://mk-wildermieming.at/termin/probe-486/
LOCATION:Musikkapelle Wildermieming\, Dorfstraße 2\, Wildermieming\, Bezirk Innsbruck-Land\, 6413\, Österreich
END:VEVENT
BEGIN:VEVENT
DTSTART;TZID=Europe/Vienna:20260207T200000
DTEND;TZID=Europe/Vienna:20260208T030000
DTSTAMP:20260424T174906
CREATED:20251111T080146Z
LAST-MODIFIED:20260128T210146Z
UID:11080-1770494400-1770519600@mk-wildermieming.at
SUMMARY:Fasnachtswagen
DESCRIPTION:
URL:https://mk-wildermieming.at/termin/fasnachtswagen-2/
LOCATION:Gemeindeamt\, Dorfstraße 2\, Wildermieming\, Bezirk Innsbruck-Land\, 6413\, Österreich
END:VEVENT
BEGIN:VEVENT
DTSTART;TZID=Europe/Vienna:20260206T200000
DTEND;TZID=Europe/Vienna:20260206T235900
DTSTAMP:20260424T174906
CREATED:20251111T080146Z
LAST-MODIFIED:20251111T080146Z
UID:11079-1770408000-1770422340@mk-wildermieming.at
SUMMARY:Fasnachtsball der Faschingsgruppe
DESCRIPTION:
URL:https://mk-wildermieming.at/termin/fasnachtsball-der-faschingsgruppe/
LOCATION:Gemeindeamt\, Dorfstraße 2\, Wildermieming\, Bezirk Innsbruck-Land\, 6413\, Österreich
END:VEVENT
BEGIN:VEVENT
DTSTART;TZID=Europe/Vienna:20260205T200000
DTEND;TZID=Europe/Vienna:20260205T220000
DTSTAMP:20260424T174906
CREATED:20260203T200218Z
LAST-MODIFIED:20260203T200218Z
UID:11245-1770321600-1770328800@mk-wildermieming.at
SUMMARY:Probe
DESCRIPTION:
URL:https://mk-wildermieming.at/termin/probe-485/
LOCATION:Musikkapelle Wildermieming\, Dorfstraße 2\, Wildermieming\, Bezirk Innsbruck-Land\, 6413\, Österreich
END:VEVENT
END:VCALENDAR