BEGIN:VCALENDAR
VERSION:2.0
PRODID:-//Musikkapelle Wildermieming - ECPv6.15.11//NONSGML v1.0//EN
CALSCALE:GREGORIAN
METHOD:PUBLISH
X-WR-CALNAME:Musikkapelle Wildermieming
X-ORIGINAL-URL:https://mk-wildermieming.at
X-WR-CALDESC:Veranstaltungen für Musikkapelle Wildermieming
REFRESH-INTERVAL;VALUE=DURATION:PT1H
X-Robots-Tag:noindex
X-PUBLISHED-TTL:PT1H
BEGIN:VTIMEZONE
TZID:Europe/Vienna
BEGIN:DAYLIGHT
TZOFFSETFROM:+0100
TZOFFSETTO:+0200
TZNAME:CEST
DTSTART:20260329T010000
END:DAYLIGHT
BEGIN:STANDARD
TZOFFSETFROM:+0200
TZOFFSETTO:+0100
TZNAME:CET
DTSTART:20261025T010000
END:STANDARD
BEGIN:DAYLIGHT
TZOFFSETFROM:+0100
TZOFFSETTO:+0200
TZNAME:CEST
DTSTART:20270328T010000
END:DAYLIGHT
BEGIN:STANDARD
TZOFFSETFROM:+0200
TZOFFSETTO:+0100
TZNAME:CET
DTSTART:20271031T010000
END:STANDARD
BEGIN:DAYLIGHT
TZOFFSETFROM:+0100
TZOFFSETTO:+0200
TZNAME:CEST
DTSTART:20280326T010000
END:DAYLIGHT
BEGIN:STANDARD
TZOFFSETFROM:+0200
TZOFFSETTO:+0100
TZNAME:CET
DTSTART:20281029T010000
END:STANDARD
END:VTIMEZONE
BEGIN:VEVENT
DTSTART;TZID=Europe/Vienna:20270625T200000
DTEND;TZID=Europe/Vienna:20270625T220000
DTSTAMP:20260425T015442
CREATED:20250625T220100Z
LAST-MODIFIED:20260414T160127Z
UID:11005-1813953600-1813960800@mk-wildermieming.at
SUMMARY:Probe
DESCRIPTION:
URL:https://mk-wildermieming.at/termin/probe-371/
LOCATION:Musikkapelle Wildermieming\, Dorfstraße 2\, Wildermieming\, Bezirk Innsbruck-Land\, 6413\, Österreich
END:VEVENT
BEGIN:VEVENT
DTSTART;TZID=Europe/Vienna:20270702T200000
DTEND;TZID=Europe/Vienna:20270702T220000
DTSTAMP:20260425T015442
CREATED:20250702T220055Z
LAST-MODIFIED:20260414T160128Z
UID:11006-1814558400-1814565600@mk-wildermieming.at
SUMMARY:Probe
DESCRIPTION:
URL:https://mk-wildermieming.at/termin/probe-373/
LOCATION:Musikkapelle Wildermieming\, Dorfstraße 2\, Wildermieming\, Bezirk Innsbruck-Land\, 6413\, Österreich
END:VEVENT
BEGIN:VEVENT
DTSTART;TZID=Europe/Vienna:20270709T200000
DTEND;TZID=Europe/Vienna:20270709T220000
DTSTAMP:20260425T015442
CREATED:20250709T220058Z
LAST-MODIFIED:20260414T160128Z
UID:11012-1815163200-1815170400@mk-wildermieming.at
SUMMARY:Probe
DESCRIPTION:
URL:https://mk-wildermieming.at/termin/probe-376/
LOCATION:Musikkapelle Wildermieming\, Dorfstraße 2\, Wildermieming\, Bezirk Innsbruck-Land\, 6413\, Österreich
END:VEVENT
BEGIN:VEVENT
DTSTART;TZID=Europe/Vienna:20270716T200000
DTEND;TZID=Europe/Vienna:20270716T220000
DTSTAMP:20260425T015442
CREATED:20250716T220050Z
LAST-MODIFIED:20260414T160128Z
UID:11013-1815768000-1815775200@mk-wildermieming.at
SUMMARY:Probe
DESCRIPTION:
URL:https://mk-wildermieming.at/termin/probe-463/
LOCATION:Musikkapelle Wildermieming\, Dorfstraße 2\, Wildermieming\, Bezirk Innsbruck-Land\, 6413\, Österreich
END:VEVENT
BEGIN:VEVENT
DTSTART;TZID=Europe/Vienna:20270723T200000
DTEND;TZID=Europe/Vienna:20270723T220000
DTSTAMP:20260425T015442
CREATED:20250723T220118Z
LAST-MODIFIED:20260414T160128Z
UID:11018-1816372800-1816380000@mk-wildermieming.at
SUMMARY:Probe
DESCRIPTION:
URL:https://mk-wildermieming.at/termin/probe-374/
LOCATION:Musikkapelle Wildermieming\, Dorfstraße 2\, Wildermieming\, Bezirk Innsbruck-Land\, 6413\, Österreich
END:VEVENT
BEGIN:VEVENT
DTSTART;TZID=Europe/Vienna:20270730T200000
DTEND;TZID=Europe/Vienna:20270730T220000
DTSTAMP:20260425T015442
CREATED:20250730T220107Z
LAST-MODIFIED:20260414T160129Z
UID:11021-1816977600-1816984800@mk-wildermieming.at
SUMMARY:Probe
DESCRIPTION:
URL:https://mk-wildermieming.at/termin/probe-367/
LOCATION:Musikkapelle Wildermieming\, Dorfstraße 2\, Wildermieming\, Bezirk Innsbruck-Land\, 6413\, Österreich
END:VEVENT
BEGIN:VEVENT
DTSTART;TZID=Europe/Vienna:20270806T200000
DTEND;TZID=Europe/Vienna:20270806T220000
DTSTAMP:20260425T015442
CREATED:20250806T220047Z
LAST-MODIFIED:20260414T160129Z
UID:11022-1817582400-1817589600@mk-wildermieming.at
SUMMARY:Probe
DESCRIPTION:
URL:https://mk-wildermieming.at/termin/probe-464/
LOCATION:Musikkapelle Wildermieming\, Dorfstraße 2\, Wildermieming\, Bezirk Innsbruck-Land\, 6413\, Österreich
END:VEVENT
BEGIN:VEVENT
DTSTART;TZID=Europe/Vienna:20270813T200000
DTEND;TZID=Europe/Vienna:20270813T220000
DTSTAMP:20260425T015442
CREATED:20250813T220110Z
LAST-MODIFIED:20260414T160129Z
UID:11030-1818187200-1818194400@mk-wildermieming.at
SUMMARY:Probe
DESCRIPTION:
URL:https://mk-wildermieming.at/termin/probe-465/
LOCATION:Musikkapelle Wildermieming\, Dorfstraße 2\, Wildermieming\, Bezirk Innsbruck-Land\, 6413\, Österreich
END:VEVENT
BEGIN:VEVENT
DTSTART;TZID=Europe/Vienna:20270814T180000
DTEND;TZID=Europe/Vienna:20270815T020000
DTSTAMP:20260425T015442
CREATED:20250814T220057Z
LAST-MODIFIED:20260311T230154Z
UID:11031-1818266400-1818295200@mk-wildermieming.at
SUMMARY:BBQ 'n' Music Festival
DESCRIPTION:
URL:https://mk-wildermieming.at/termin/bbq-n-music-festival-6/
LOCATION:Wildermieming Gemeindeamt\, Dorfstraße \, Wildermieming\, Bezirk Innsbruck-Land\, 6413\, Österreich
END:VEVENT
BEGIN:VEVENT
DTSTART;TZID=Europe/Vienna:20270820T200000
DTEND;TZID=Europe/Vienna:20270820T220000
DTSTAMP:20260425T015442
CREATED:20250820T220100Z
LAST-MODIFIED:20260414T160129Z
UID:11032-1818792000-1818799200@mk-wildermieming.at
SUMMARY:Probe
DESCRIPTION:
URL:https://mk-wildermieming.at/termin/probe-466/
LOCATION:Musikkapelle Wildermieming\, Dorfstraße 2\, Wildermieming\, Bezirk Innsbruck-Land\, 6413\, Österreich
END:VEVENT
BEGIN:VEVENT
DTSTART;TZID=Europe/Vienna:20270827T200000
DTEND;TZID=Europe/Vienna:20270827T220000
DTSTAMP:20260425T015442
CREATED:20250827T220051Z
LAST-MODIFIED:20260414T160129Z
UID:11033-1819396800-1819404000@mk-wildermieming.at
SUMMARY:Probe
DESCRIPTION:
URL:https://mk-wildermieming.at/termin/probe-467/
LOCATION:Musikkapelle Wildermieming\, Dorfstraße 2\, Wildermieming\, Bezirk Innsbruck-Land\, 6413\, Österreich
END:VEVENT
BEGIN:VEVENT
DTSTART;TZID=Europe/Vienna:20270903T200000
DTEND;TZID=Europe/Vienna:20270903T220000
DTSTAMP:20260425T015442
CREATED:20250903T220104Z
LAST-MODIFIED:20260414T160130Z
UID:11038-1820001600-1820008800@mk-wildermieming.at
SUMMARY:Probe
DESCRIPTION:
URL:https://mk-wildermieming.at/termin/probe-468/
LOCATION:Musikkapelle Wildermieming\, Dorfstraße 2\, Wildermieming\, Bezirk Innsbruck-Land\, 6413\, Österreich
END:VEVENT
BEGIN:VEVENT
DTSTART;TZID=Europe/Vienna:20270910T200000
DTEND;TZID=Europe/Vienna:20270910T220000
DTSTAMP:20260425T015442
CREATED:20250910T220102Z
LAST-MODIFIED:20260414T160130Z
UID:11039-1820606400-1820613600@mk-wildermieming.at
SUMMARY:Probe
DESCRIPTION:
URL:https://mk-wildermieming.at/termin/probe-469/
LOCATION:Musikkapelle Wildermieming\, Dorfstraße 2\, Wildermieming\, Bezirk Innsbruck-Land\, 6413\, Österreich
END:VEVENT
BEGIN:VEVENT
DTSTART;TZID=Europe/Vienna:20270915T200000
DTEND;TZID=Europe/Vienna:20270915T203000
DTSTAMP:20260425T015442
CREATED:20250915T220119Z
LAST-MODIFIED:20250915T220119Z
UID:11040-1821038400-1821040200@mk-wildermieming.at
SUMMARY:Geburtstagsständchen Robert Marthe
DESCRIPTION:
URL:https://mk-wildermieming.at/termin/geburtstagsstaendchen-robert-marthe-13/
LOCATION:Brenteweg 2\nWildermieming\, Österreich 6413\nTirol\, Brenteweg 2\, Wildermieming\, 6413\, Österreich
END:VEVENT
BEGIN:VEVENT
DTSTART;TZID=Europe/Vienna:20270917T200000
DTEND;TZID=Europe/Vienna:20270917T220000
DTSTAMP:20260425T015442
CREATED:20250917T220102Z
LAST-MODIFIED:20260414T160130Z
UID:11041-1821211200-1821218400@mk-wildermieming.at
SUMMARY:Probe
DESCRIPTION:
URL:https://mk-wildermieming.at/termin/probe-470/
LOCATION:Musikkapelle Wildermieming\, Dorfstraße 2\, Wildermieming\, Bezirk Innsbruck-Land\, 6413\, Österreich
END:VEVENT
BEGIN:VEVENT
DTSTART;TZID=Europe/Vienna:20270924T200000
DTEND;TZID=Europe/Vienna:20270924T220000
DTSTAMP:20260425T015442
CREATED:20250924T220105Z
LAST-MODIFIED:20260414T160130Z
UID:11042-1821816000-1821823200@mk-wildermieming.at
SUMMARY:Probe
DESCRIPTION:
URL:https://mk-wildermieming.at/termin/probe-471/
LOCATION:Musikkapelle Wildermieming\, Dorfstraße 2\, Wildermieming\, Bezirk Innsbruck-Land\, 6413\, Österreich
END:VEVENT
BEGIN:VEVENT
DTSTART;TZID=Europe/Vienna:20271001T200000
DTEND;TZID=Europe/Vienna:20271001T220000
DTSTAMP:20260425T015442
CREATED:20251001T220058Z
LAST-MODIFIED:20260414T160131Z
UID:11047-1822420800-1822428000@mk-wildermieming.at
SUMMARY:Probe
DESCRIPTION:
URL:https://mk-wildermieming.at/termin/probe-475/
LOCATION:Musikkapelle Wildermieming\, Dorfstraße 2\, Wildermieming\, Bezirk Innsbruck-Land\, 6413\, Österreich
END:VEVENT
BEGIN:VEVENT
DTSTART;TZID=Europe/Vienna:20271008T200000
DTEND;TZID=Europe/Vienna:20271008T220000
DTSTAMP:20260425T015442
CREATED:20251008T220106Z
LAST-MODIFIED:20260414T160131Z
UID:11056-1823025600-1823032800@mk-wildermieming.at
SUMMARY:Probe
DESCRIPTION:
URL:https://mk-wildermieming.at/termin/probe-378/
LOCATION:Musikkapelle Wildermieming\, Dorfstraße 2\, Wildermieming\, Bezirk Innsbruck-Land\, 6413\, Österreich
END:VEVENT
BEGIN:VEVENT
DTSTART;TZID=Europe/Vienna:20271015T200000
DTEND;TZID=Europe/Vienna:20271015T220000
DTSTAMP:20260425T015442
CREATED:20251015T220053Z
LAST-MODIFIED:20260414T160131Z
UID:11057-1823630400-1823637600@mk-wildermieming.at
SUMMARY:Probe
DESCRIPTION:
URL:https://mk-wildermieming.at/termin/probe-474/
LOCATION:Musikkapelle Wildermieming\, Dorfstraße 2\, Wildermieming\, Bezirk Innsbruck-Land\, 6413\, Österreich
END:VEVENT
BEGIN:VEVENT
DTSTART;TZID=Europe/Vienna:20271022T200000
DTEND;TZID=Europe/Vienna:20271022T220000
DTSTAMP:20260425T015442
CREATED:20251022T220121Z
LAST-MODIFIED:20260414T160131Z
UID:11059-1824235200-1824242400@mk-wildermieming.at
SUMMARY:Probe
DESCRIPTION:
URL:https://mk-wildermieming.at/termin/probe-476/
LOCATION:Musikkapelle Wildermieming\, Dorfstraße 2\, Wildermieming\, Bezirk Innsbruck-Land\, 6413\, Österreich
END:VEVENT
BEGIN:VEVENT
DTSTART;TZID=Europe/Vienna:20271029T200000
DTEND;TZID=Europe/Vienna:20271029T220000
DTSTAMP:20260425T015442
CREATED:20251029T230124Z
LAST-MODIFIED:20260414T160132Z
UID:11060-1824840000-1824847200@mk-wildermieming.at
SUMMARY:Probe
DESCRIPTION:
URL:https://mk-wildermieming.at/termin/probe-477/
LOCATION:Musikkapelle Wildermieming\, Dorfstraße 2\, Wildermieming\, Bezirk Innsbruck-Land\, 6413\, Österreich
END:VEVENT
BEGIN:VEVENT
DTSTART;TZID=Europe/Vienna:20271105T200000
DTEND;TZID=Europe/Vienna:20271105T220000
DTSTAMP:20260425T015442
CREATED:20251105T230139Z
LAST-MODIFIED:20260414T160132Z
UID:11066-1825444800-1825452000@mk-wildermieming.at
SUMMARY:Probe
DESCRIPTION:
URL:https://mk-wildermieming.at/termin/probe-478/
LOCATION:Musikkapelle Wildermieming\, Dorfstraße 2\, Wildermieming\, Bezirk Innsbruck-Land\, 6413\, Österreich
END:VEVENT
BEGIN:VEVENT
DTSTART;TZID=Europe/Vienna:20271112T200000
DTEND;TZID=Europe/Vienna:20271112T220000
DTSTAMP:20260425T015442
CREATED:20251112T230117Z
LAST-MODIFIED:20260414T160132Z
UID:11095-1826049600-1826056800@mk-wildermieming.at
SUMMARY:Probe
DESCRIPTION:
URL:https://mk-wildermieming.at/termin/probe-382/
LOCATION:Musikkapelle Wildermieming\, Dorfstraße 2\, Wildermieming\, Bezirk Innsbruck-Land\, 6413\, Österreich
END:VEVENT
BEGIN:VEVENT
DTSTART;TZID=Europe/Vienna:20271119T200000
DTEND;TZID=Europe/Vienna:20271119T220000
DTSTAMP:20260425T015442
CREATED:20251119T230130Z
LAST-MODIFIED:20260414T160132Z
UID:11096-1826654400-1826661600@mk-wildermieming.at
SUMMARY:Probe
DESCRIPTION:
URL:https://mk-wildermieming.at/termin/probe-385/
LOCATION:Musikkapelle Wildermieming\, Dorfstraße 2\, Wildermieming\, Bezirk Innsbruck-Land\, 6413\, Österreich
END:VEVENT
BEGIN:VEVENT
DTSTART;TZID=Europe/Vienna:20271126T200000
DTEND;TZID=Europe/Vienna:20271126T220000
DTSTAMP:20260425T015442
CREATED:20251126T230121Z
LAST-MODIFIED:20260414T160133Z
UID:11103-1827259200-1827266400@mk-wildermieming.at
SUMMARY:Probe
DESCRIPTION:
URL:https://mk-wildermieming.at/termin/probe-388/
LOCATION:Musikkapelle Wildermieming\, Dorfstraße 2\, Wildermieming\, Bezirk Innsbruck-Land\, 6413\, Österreich
END:VEVENT
BEGIN:VEVENT
DTSTART;TZID=Europe/Vienna:20271203T200000
DTEND;TZID=Europe/Vienna:20271203T220000
DTSTAMP:20260425T015442
CREATED:20251203T230842Z
LAST-MODIFIED:20260414T160133Z
UID:11104-1827864000-1827871200@mk-wildermieming.at
SUMMARY:Probe
DESCRIPTION:
URL:https://mk-wildermieming.at/termin/probe-390/
LOCATION:Musikkapelle Wildermieming\, Dorfstraße 2\, Wildermieming\, Bezirk Innsbruck-Land\, 6413\, Österreich
END:VEVENT
BEGIN:VEVENT
DTSTART;TZID=Europe/Vienna:20271206T190000
DTEND;TZID=Europe/Vienna:20271206T200000
DTSTAMP:20260425T015442
CREATED:20251206T230134Z
LAST-MODIFIED:20251206T230134Z
UID:11105-1828119600-1828123200@mk-wildermieming.at
SUMMARY:Kirchenpatrozinium
DESCRIPTION:
URL:https://mk-wildermieming.at/termin/kirchenpatrozinium-9/
LOCATION:Pfarrkirche Hl. Nikolaus\, Dorfstraße 1\, Wildermieming\, Bezirk Innsbruck-Land\, 6413\, Österreich
END:VEVENT
BEGIN:VEVENT
DTSTART;TZID=Europe/Vienna:20271210T200000
DTEND;TZID=Europe/Vienna:20271210T220000
DTSTAMP:20260425T015442
CREATED:20251210T230120Z
LAST-MODIFIED:20260414T160133Z
UID:11106-1828468800-1828476000@mk-wildermieming.at
SUMMARY:Probe
DESCRIPTION:
URL:https://mk-wildermieming.at/termin/probe-479/
LOCATION:Musikkapelle Wildermieming\, Dorfstraße 2\, Wildermieming\, Bezirk Innsbruck-Land\, 6413\, Österreich
END:VEVENT
BEGIN:VEVENT
DTSTART;TZID=Europe/Vienna:20271217T200000
DTEND;TZID=Europe/Vienna:20271217T220000
DTSTAMP:20260425T015442
CREATED:20251225T160119Z
LAST-MODIFIED:20260414T160133Z
UID:11107-1829073600-1829080800@mk-wildermieming.at
SUMMARY:Probe
DESCRIPTION:
URL:https://mk-wildermieming.at/termin/probe-480/
LOCATION:Musikkapelle Wildermieming\, Dorfstraße 2\, Wildermieming\, Bezirk Innsbruck-Land\, 6413\, Österreich
END:VEVENT
BEGIN:VEVENT
DTSTART;TZID=Europe/Vienna:20271224T200000
DTEND;TZID=Europe/Vienna:20271224T220000
DTSTAMP:20260425T015442
CREATED:20251225T160119Z
LAST-MODIFIED:20260414T160133Z
UID:11108-1829678400-1829685600@mk-wildermieming.at
SUMMARY:Probe
DESCRIPTION:
URL:https://mk-wildermieming.at/termin/probe-481/
LOCATION:Musikkapelle Wildermieming\, Dorfstraße 2\, Wildermieming\, Bezirk Innsbruck-Land\, 6413\, Österreich
END:VEVENT
END:VCALENDAR