BEGIN:VCALENDAR
VERSION:2.0
PRODID:-//Musikkapelle Wildermieming - ECPv6.15.11//NONSGML v1.0//EN
CALSCALE:GREGORIAN
METHOD:PUBLISH
X-WR-CALNAME:Musikkapelle Wildermieming
X-ORIGINAL-URL:https://mk-wildermieming.at
X-WR-CALDESC:Veranstaltungen für Musikkapelle Wildermieming
REFRESH-INTERVAL;VALUE=DURATION:PT1H
X-Robots-Tag:noindex
X-PUBLISHED-TTL:PT1H
BEGIN:VTIMEZONE
TZID:Europe/Vienna
BEGIN:DAYLIGHT
TZOFFSETFROM:+0100
TZOFFSETTO:+0200
TZNAME:CEST
DTSTART:20230326T010000
END:DAYLIGHT
BEGIN:STANDARD
TZOFFSETFROM:+0200
TZOFFSETTO:+0100
TZNAME:CET
DTSTART:20231029T010000
END:STANDARD
BEGIN:DAYLIGHT
TZOFFSETFROM:+0100
TZOFFSETTO:+0200
TZNAME:CEST
DTSTART:20240331T010000
END:DAYLIGHT
BEGIN:STANDARD
TZOFFSETFROM:+0200
TZOFFSETTO:+0100
TZNAME:CET
DTSTART:20241027T010000
END:STANDARD
BEGIN:DAYLIGHT
TZOFFSETFROM:+0100
TZOFFSETTO:+0200
TZNAME:CEST
DTSTART:20250330T010000
END:DAYLIGHT
BEGIN:STANDARD
TZOFFSETFROM:+0200
TZOFFSETTO:+0100
TZNAME:CET
DTSTART:20251026T010000
END:STANDARD
END:VTIMEZONE
BEGIN:VEVENT
DTSTART;TZID=Europe/Vienna:20240910T200000
DTEND;TZID=Europe/Vienna:20240910T220000
DTSTAMP:20260425T222528
CREATED:20250522T150720Z
LAST-MODIFIED:20250522T150720Z
UID:10655-1725998400-1726005600@mk-wildermieming.at
SUMMARY:Probe
DESCRIPTION:
URL:https://mk-wildermieming.at/termin/probe-315/
LOCATION:Musikkapelle Wildermieming\, Dorfstraße 2\, Wildermieming\, Bezirk Innsbruck-Land\, 6413\, Österreich
END:VEVENT
BEGIN:VEVENT
DTSTART;TZID=Europe/Vienna:20240913T200000
DTEND;TZID=Europe/Vienna:20240913T220000
DTSTAMP:20260425T222528
CREATED:20250522T150721Z
LAST-MODIFIED:20250522T150721Z
UID:10656-1726257600-1726264800@mk-wildermieming.at
SUMMARY:Probe
DESCRIPTION:
URL:https://mk-wildermieming.at/termin/probe-316/
LOCATION:Musikkapelle Wildermieming\, Dorfstraße 2\, Wildermieming\, Bezirk Innsbruck-Land\, 6413\, Österreich
END:VEVENT
BEGIN:VEVENT
DTSTART;VALUE=DATE:20240915
DTEND;VALUE=DATE:20240916
DTSTAMP:20260425T222528
CREATED:20250522T150718Z
LAST-MODIFIED:20250522T150718Z
UID:10650-1726358400-1726444799@mk-wildermieming.at
SUMMARY:40 Jahre Partnerschaft Burgstall - Wildermieming (Freiwillig)
DESCRIPTION:
URL:https://mk-wildermieming.at/termin/40-jahre-partnerschaft-burgstall-wildermieming-freiwillig/
LOCATION:Burgstall\, 3365 Burgstall\, Österreich\, Burgstall 3365\, Burgstall\, Österreich
END:VEVENT
BEGIN:VEVENT
DTSTART;TZID=Europe/Vienna:20240915T200000
DTEND;TZID=Europe/Vienna:20240915T203000
DTSTAMP:20260425T222528
CREATED:20250522T150259Z
LAST-MODIFIED:20250522T150259Z
UID:10083-1726430400-1726432200@mk-wildermieming.at
SUMMARY:Geburtstagsständchen Robert Marthe
DESCRIPTION:
URL:https://mk-wildermieming.at/termin/geburtstagsstaendchen-robert-marthe-9/
LOCATION:Brenteweg 2\nWildermieming\, Österreich 6413\nTirol\, Brenteweg 2\, Wildermieming\, 6413\, Österreich
END:VEVENT
BEGIN:VEVENT
DTSTART;TZID=Europe/Vienna:20240917T200000
DTEND;TZID=Europe/Vienna:20240917T220000
DTSTAMP:20260425T222528
CREATED:20250522T150737Z
LAST-MODIFIED:20250522T150737Z
UID:10690-1726603200-1726610400@mk-wildermieming.at
SUMMARY:Probe
DESCRIPTION:
URL:https://mk-wildermieming.at/termin/probe-332/
LOCATION:Pfarrkirche Untermieming\, Untermieming 19\, Mieming\, Bezirk Imst\, 6414\, Österreich
END:VEVENT
BEGIN:VEVENT
DTSTART;TZID=Europe/Vienna:20240920T200000
DTEND;TZID=Europe/Vienna:20240920T220000
DTSTAMP:20260425T222528
CREATED:20250522T150644Z
LAST-MODIFIED:20250522T150644Z
UID:10572-1726862400-1726869600@mk-wildermieming.at
SUMMARY:Platzkonzert
DESCRIPTION:
URL:https://mk-wildermieming.at/termin/platzkonzert-15/
LOCATION:Gemeinde\, Wildermieming\, Österreich
END:VEVENT
BEGIN:VEVENT
DTSTART;TZID=Europe/Vienna:20240922T093000
DTEND;TZID=Europe/Vienna:20240922T103000
DTSTAMP:20260425T222528
CREATED:20250522T150717Z
LAST-MODIFIED:20250522T150717Z
UID:10644-1726997400-1727001000@mk-wildermieming.at
SUMMARY:Messgestaltung
DESCRIPTION:
URL:https://mk-wildermieming.at/termin/messgestaltung-3/
LOCATION:Pfarrkirche Untermieming\, Untermieming 19\, Mieming\, Bezirk Imst\, 6414\, Österreich
END:VEVENT
BEGIN:VEVENT
DTSTART;TZID=Europe/Vienna:20240924T200000
DTEND;TZID=Europe/Vienna:20240924T220000
DTSTAMP:20260425T222528
CREATED:20250522T150722Z
LAST-MODIFIED:20250522T150722Z
UID:10658-1727208000-1727215200@mk-wildermieming.at
SUMMARY:Teilprobe Blech
DESCRIPTION:
URL:https://mk-wildermieming.at/termin/teilprobe-blech-7/
LOCATION:Musikkapelle Wildermieming\, Dorfstraße 2\, Wildermieming\, Bezirk Innsbruck-Land\, 6413\, Österreich
END:VEVENT
BEGIN:VEVENT
DTSTART;TZID=Europe/Vienna:20240925T200000
DTEND;TZID=Europe/Vienna:20240925T220000
DTSTAMP:20260425T222528
CREATED:20250522T150722Z
LAST-MODIFIED:20250522T150722Z
UID:10659-1727294400-1727301600@mk-wildermieming.at
SUMMARY:Teilprobe Holz
DESCRIPTION:
URL:https://mk-wildermieming.at/termin/teilprobe-holz-17/
LOCATION:Musikkapelle Wildermieming\, Dorfstraße 2\, Wildermieming\, Bezirk Innsbruck-Land\, 6413\, Österreich
END:VEVENT
BEGIN:VEVENT
DTSTART;TZID=Europe/Vienna:20240927T200000
DTEND;TZID=Europe/Vienna:20240927T220000
DTSTAMP:20260425T222529
CREATED:20250522T150721Z
LAST-MODIFIED:20250522T150721Z
UID:10657-1727467200-1727474400@mk-wildermieming.at
SUMMARY:Probe
DESCRIPTION:
URL:https://mk-wildermieming.at/termin/probe-317/
LOCATION:Musikkapelle Wildermieming\, Dorfstraße 2\, Wildermieming\, Bezirk Innsbruck-Land\, 6413\, Österreich
END:VEVENT
END:VCALENDAR