BEGIN:VCALENDAR
VERSION:2.0
PRODID:-//Musikkapelle Wildermieming - ECPv6.15.11//NONSGML v1.0//EN
CALSCALE:GREGORIAN
METHOD:PUBLISH
X-ORIGINAL-URL:https://mk-wildermieming.at
X-WR-CALDESC:Veranstaltungen für Musikkapelle Wildermieming
REFRESH-INTERVAL;VALUE=DURATION:PT1H
X-Robots-Tag:noindex
X-PUBLISHED-TTL:PT1H
BEGIN:VTIMEZONE
TZID:Europe/Vienna
BEGIN:DAYLIGHT
TZOFFSETFROM:+0100
TZOFFSETTO:+0200
TZNAME:CEST
DTSTART:20230326T010000
END:DAYLIGHT
BEGIN:STANDARD
TZOFFSETFROM:+0200
TZOFFSETTO:+0100
TZNAME:CET
DTSTART:20231029T010000
END:STANDARD
BEGIN:DAYLIGHT
TZOFFSETFROM:+0100
TZOFFSETTO:+0200
TZNAME:CEST
DTSTART:20240331T010000
END:DAYLIGHT
BEGIN:STANDARD
TZOFFSETFROM:+0200
TZOFFSETTO:+0100
TZNAME:CET
DTSTART:20241027T010000
END:STANDARD
BEGIN:DAYLIGHT
TZOFFSETFROM:+0100
TZOFFSETTO:+0200
TZNAME:CEST
DTSTART:20250330T010000
END:DAYLIGHT
BEGIN:STANDARD
TZOFFSETFROM:+0200
TZOFFSETTO:+0100
TZNAME:CET
DTSTART:20251026T010000
END:STANDARD
END:VTIMEZONE
BEGIN:VEVENT
DTSTART;TZID=Europe/Vienna:20241102T190000
DTEND;TZID=Europe/Vienna:20241102T200000
DTSTAMP:20260425T191706
CREATED:20250522T150739Z
LAST-MODIFIED:20250522T150739Z
UID:10696-1730574000-1730577600@mk-wildermieming.at
SUMMARY:Requiem Probe
DESCRIPTION:
URL:https://mk-wildermieming.at/termin/requiem-probe-3/
LOCATION:Pfarrkirche Hl. Nikolaus\, Dorfstraße 1\, Wildermieming\, Bezirk Innsbruck-Land\, 6413\, Österreich
END:VEVENT
BEGIN:VEVENT
DTSTART;TZID=Europe/Vienna:20241103T100000
DTEND;TZID=Europe/Vienna:20241103T110000
DTSTAMP:20260425T191706
CREATED:20250522T150641Z
LAST-MODIFIED:20250522T150641Z
UID:10566-1730628000-1730631600@mk-wildermieming.at
SUMMARY:Seelensonntag
DESCRIPTION:
URL:https://mk-wildermieming.at/termin/seelensonntag-9/
LOCATION:Pfarrkirche Hl. Nikolaus\, Dorfstraße 1\, Wildermieming\, Bezirk Innsbruck-Land\, 6413\, Österreich
END:VEVENT
BEGIN:VEVENT
DTSTART;TZID=Europe/Vienna:20241103T110000
DTEND;TZID=Europe/Vienna:20241103T130000
DTSTAMP:20260425T191706
CREATED:20250522T150646Z
LAST-MODIFIED:20250522T150646Z
UID:10577-1730631600-1730638800@mk-wildermieming.at
SUMMARY:Jahreshauptversammlung
DESCRIPTION:
URL:https://mk-wildermieming.at/termin/jahreshauptversammlung-9/
LOCATION:Wildermieming Gemeindeamt\, Dorfstraße \, Wildermieming\, Bezirk Innsbruck-Land\, 6413\, Österreich
END:VEVENT
BEGIN:VEVENT
DTSTART;TZID=Europe/Vienna:20241108T200000
DTEND;TZID=Europe/Vienna:20241108T220000
DTSTAMP:20260425T191706
CREATED:20250522T150739Z
LAST-MODIFIED:20250522T150739Z
UID:10697-1731096000-1731103200@mk-wildermieming.at
SUMMARY:Probe
DESCRIPTION:
URL:https://mk-wildermieming.at/termin/probe-333/
LOCATION:Musikkapelle Wildermieming\, Dorfstraße 2\, Wildermieming\, Bezirk Innsbruck-Land\, 6413\, Österreich
END:VEVENT
BEGIN:VEVENT
DTSTART;TZID=Europe/Vienna:20241115T200000
DTEND;TZID=Europe/Vienna:20241115T220000
DTSTAMP:20260425T191706
CREATED:20250522T150740Z
LAST-MODIFIED:20250522T150740Z
UID:10698-1731700800-1731708000@mk-wildermieming.at
SUMMARY:Probe
DESCRIPTION:
URL:https://mk-wildermieming.at/termin/probe-334/
LOCATION:Musikkapelle Wildermieming\, Dorfstraße 2\, Wildermieming\, Bezirk Innsbruck-Land\, 6413\, Österreich
END:VEVENT
BEGIN:VEVENT
DTSTART;TZID=Europe/Vienna:20241122T200000
DTEND;TZID=Europe/Vienna:20241122T220000
DTSTAMP:20260425T191706
CREATED:20250522T150740Z
LAST-MODIFIED:20250522T150740Z
UID:10699-1732305600-1732312800@mk-wildermieming.at
SUMMARY:Probe
DESCRIPTION:
URL:https://mk-wildermieming.at/termin/probe-335/
LOCATION:Musikkapelle Wildermieming\, Dorfstraße 2\, Wildermieming\, Bezirk Innsbruck-Land\, 6413\, Österreich
END:VEVENT
BEGIN:VEVENT
DTSTART;TZID=Europe/Vienna:20241123T190000
DTEND;TZID=Europe/Vienna:20241123T200000
DTSTAMP:20260425T191706
CREATED:20250522T150642Z
LAST-MODIFIED:20250522T150642Z
UID:10567-1732388400-1732392000@mk-wildermieming.at
SUMMARY:Cäcilia-Messe
DESCRIPTION:
URL:https://mk-wildermieming.at/termin/caecilia-messe-7/
LOCATION:Wildermieming Gemeindeamt\, Dorfstraße \, Wildermieming\, Bezirk Innsbruck-Land\, 6413\, Österreich
END:VEVENT
BEGIN:VEVENT
DTSTART;TZID=Europe/Vienna:20241123T200000
DTEND;TZID=Europe/Vienna:20241123T232900
DTSTAMP:20260425T191706
CREATED:20250522T150642Z
LAST-MODIFIED:20250522T150642Z
UID:10568-1732392000-1732404540@mk-wildermieming.at
SUMMARY:Cäcilia-Feier
DESCRIPTION:
URL:https://mk-wildermieming.at/termin/caecilia-feier-7/
LOCATION:Wildermieming Gemeindeamt\, Dorfstraße \, Wildermieming\, Bezirk Innsbruck-Land\, 6413\, Österreich
END:VEVENT
END:VCALENDAR