BEGIN:VCALENDAR
VERSION:2.0
PRODID:-//Musikkapelle Wildermieming - ECPv6.15.11//NONSGML v1.0//EN
CALSCALE:GREGORIAN
METHOD:PUBLISH
X-ORIGINAL-URL:https://mk-wildermieming.at
X-WR-CALDESC:Veranstaltungen für Musikkapelle Wildermieming
REFRESH-INTERVAL;VALUE=DURATION:PT1H
X-Robots-Tag:noindex
X-PUBLISHED-TTL:PT1H
BEGIN:VTIMEZONE
TZID:Europe/Vienna
BEGIN:DAYLIGHT
TZOFFSETFROM:+0100
TZOFFSETTO:+0200
TZNAME:CEST
DTSTART:20240331T010000
END:DAYLIGHT
BEGIN:STANDARD
TZOFFSETFROM:+0200
TZOFFSETTO:+0100
TZNAME:CET
DTSTART:20241027T010000
END:STANDARD
BEGIN:DAYLIGHT
TZOFFSETFROM:+0100
TZOFFSETTO:+0200
TZNAME:CEST
DTSTART:20250330T010000
END:DAYLIGHT
BEGIN:STANDARD
TZOFFSETFROM:+0200
TZOFFSETTO:+0100
TZNAME:CET
DTSTART:20251026T010000
END:STANDARD
BEGIN:DAYLIGHT
TZOFFSETFROM:+0100
TZOFFSETTO:+0200
TZNAME:CEST
DTSTART:20260329T010000
END:DAYLIGHT
BEGIN:STANDARD
TZOFFSETFROM:+0200
TZOFFSETTO:+0100
TZNAME:CET
DTSTART:20261025T010000
END:STANDARD
END:VTIMEZONE
BEGIN:VEVENT
DTSTART;TZID=Europe/Vienna:20250107T190000
DTEND;TZID=Europe/Vienna:20250107T203000
DTSTAMP:20260425T160515
CREATED:20250522T150746Z
LAST-MODIFIED:20250522T150746Z
UID:10710-1736276400-1736281800@mk-wildermieming.at
SUMMARY:Teilprobe Blech
DESCRIPTION:
URL:https://mk-wildermieming.at/termin/teilprobe-blech-8/
LOCATION:Musikkapelle Wildermieming\, Dorfstraße 2\, Wildermieming\, Bezirk Innsbruck-Land\, 6413\, Österreich
END:VEVENT
BEGIN:VEVENT
DTSTART;TZID=Europe/Vienna:20250107T203000
DTEND;TZID=Europe/Vienna:20250107T220000
DTSTAMP:20260425T160515
CREATED:20250522T150746Z
LAST-MODIFIED:20250522T150746Z
UID:10711-1736281800-1736287200@mk-wildermieming.at
SUMMARY:Teilprobe Holz
DESCRIPTION:
URL:https://mk-wildermieming.at/termin/teilprobe-holz-18/
LOCATION:Musikkapelle Wildermieming\, Dorfstraße 2\, Wildermieming\, Bezirk Innsbruck-Land\, 6413\, Österreich
END:VEVENT
BEGIN:VEVENT
DTSTART;TZID=Europe/Vienna:20250110T200000
DTEND;TZID=Europe/Vienna:20250110T220000
DTSTAMP:20260425T160515
CREATED:20250522T150743Z
LAST-MODIFIED:20250522T150743Z
UID:10704-1736539200-1736546400@mk-wildermieming.at
SUMMARY:Probe
DESCRIPTION:
URL:https://mk-wildermieming.at/termin/probe-337/
LOCATION:Musikkapelle Wildermieming\, Dorfstraße 2\, Wildermieming\, Bezirk Innsbruck-Land\, 6413\, Österreich
END:VEVENT
BEGIN:VEVENT
DTSTART;TZID=Europe/Vienna:20250114T190000
DTEND;TZID=Europe/Vienna:20250114T203000
DTSTAMP:20260425T160515
CREATED:20250522T150747Z
LAST-MODIFIED:20250522T150747Z
UID:10712-1736881200-1736886600@mk-wildermieming.at
SUMMARY:Teilprobe Blech
DESCRIPTION:
URL:https://mk-wildermieming.at/termin/teilprobe-blech-9/
LOCATION:Musikkapelle Wildermieming\, Dorfstraße 2\, Wildermieming\, Bezirk Innsbruck-Land\, 6413\, Österreich
END:VEVENT
BEGIN:VEVENT
DTSTART;TZID=Europe/Vienna:20250114T203000
DTEND;TZID=Europe/Vienna:20250114T220000
DTSTAMP:20260425T160515
CREATED:20250522T150747Z
LAST-MODIFIED:20250522T150747Z
UID:10713-1736886600-1736892000@mk-wildermieming.at
SUMMARY:Teilprobe Holz
DESCRIPTION:
URL:https://mk-wildermieming.at/termin/teilprobe-holz-19/
LOCATION:Musikkapelle Wildermieming\, Dorfstraße 2\, Wildermieming\, Bezirk Innsbruck-Land\, 6413\, Österreich
END:VEVENT
BEGIN:VEVENT
DTSTART;TZID=Europe/Vienna:20250117T200000
DTEND;TZID=Europe/Vienna:20250117T220000
DTSTAMP:20260425T160515
CREATED:20250522T150743Z
LAST-MODIFIED:20250522T150743Z
UID:10705-1737144000-1737151200@mk-wildermieming.at
SUMMARY:Probe
DESCRIPTION:
URL:https://mk-wildermieming.at/termin/probe-338/
LOCATION:Musikkapelle Wildermieming\, Dorfstraße 2\, Wildermieming\, Bezirk Innsbruck-Land\, 6413\, Österreich
END:VEVENT
BEGIN:VEVENT
DTSTART;TZID=Europe/Vienna:20250121T190000
DTEND;TZID=Europe/Vienna:20250121T203000
DTSTAMP:20260425T160515
CREATED:20250522T150748Z
LAST-MODIFIED:20250522T150748Z
UID:10715-1737486000-1737491400@mk-wildermieming.at
SUMMARY:Teilprobe Holz
DESCRIPTION:
URL:https://mk-wildermieming.at/termin/teilprobe-holz-20/
LOCATION:Musikkapelle Wildermieming\, Dorfstraße 2\, Wildermieming\, Bezirk Innsbruck-Land\, 6413\, Österreich
END:VEVENT
BEGIN:VEVENT
DTSTART;TZID=Europe/Vienna:20250121T203000
DTEND;TZID=Europe/Vienna:20250121T220000
DTSTAMP:20260425T160515
CREATED:20250522T150748Z
LAST-MODIFIED:20250522T150748Z
UID:10714-1737491400-1737496800@mk-wildermieming.at
SUMMARY:Teilprobe Blech
DESCRIPTION:
URL:https://mk-wildermieming.at/termin/teilprobe-blech-10/
LOCATION:Musikkapelle Wildermieming\, Dorfstraße 2\, Wildermieming\, Bezirk Innsbruck-Land\, 6413\, Österreich
END:VEVENT
BEGIN:VEVENT
DTSTART;TZID=Europe/Vienna:20250124T200000
DTEND;TZID=Europe/Vienna:20250124T220000
DTSTAMP:20260425T160515
CREATED:20250522T150744Z
LAST-MODIFIED:20250522T150744Z
UID:10706-1737748800-1737756000@mk-wildermieming.at
SUMMARY:Probe
DESCRIPTION:
URL:https://mk-wildermieming.at/termin/probe-339/
LOCATION:Musikkapelle Wildermieming\, Dorfstraße 2\, Wildermieming\, Bezirk Innsbruck-Land\, 6413\, Österreich
END:VEVENT
BEGIN:VEVENT
DTSTART;TZID=Europe/Vienna:20250128T190000
DTEND;TZID=Europe/Vienna:20250128T203000
DTSTAMP:20260425T160515
CREATED:20250522T150749Z
LAST-MODIFIED:20250522T150749Z
UID:10717-1738090800-1738096200@mk-wildermieming.at
SUMMARY:Teilprobe Blech
DESCRIPTION:
URL:https://mk-wildermieming.at/termin/teilprobe-blech-11/
LOCATION:Musikkapelle Wildermieming\, Dorfstraße 2\, Wildermieming\, Bezirk Innsbruck-Land\, 6413\, Österreich
END:VEVENT
BEGIN:VEVENT
DTSTART;TZID=Europe/Vienna:20250128T203000
DTEND;TZID=Europe/Vienna:20250128T220000
DTSTAMP:20260425T160515
CREATED:20250522T150748Z
LAST-MODIFIED:20250522T150748Z
UID:10716-1738096200-1738101600@mk-wildermieming.at
SUMMARY:Teilprobe Holz
DESCRIPTION:
URL:https://mk-wildermieming.at/termin/teilprobe-holz-21/
LOCATION:Musikkapelle Wildermieming\, Dorfstraße 2\, Wildermieming\, Bezirk Innsbruck-Land\, 6413\, Österreich
END:VEVENT
BEGIN:VEVENT
DTSTART;TZID=Europe/Vienna:20250131T200000
DTEND;TZID=Europe/Vienna:20250131T220000
DTSTAMP:20260425T160515
CREATED:20250522T150745Z
LAST-MODIFIED:20250522T150745Z
UID:10707-1738353600-1738360800@mk-wildermieming.at
SUMMARY:Probe
DESCRIPTION:
URL:https://mk-wildermieming.at/termin/probe-340/
LOCATION:Musikkapelle Wildermieming\, Dorfstraße 2\, Wildermieming\, Bezirk Innsbruck-Land\, 6413\, Österreich
END:VEVENT
END:VCALENDAR