BEGIN:VCALENDAR
VERSION:2.0
PRODID:-//Musikkapelle Wildermieming - ECPv6.15.11//NONSGML v1.0//EN
CALSCALE:GREGORIAN
METHOD:PUBLISH
X-ORIGINAL-URL:https://mk-wildermieming.at
X-WR-CALDESC:Veranstaltungen für Musikkapelle Wildermieming
REFRESH-INTERVAL;VALUE=DURATION:PT1H
X-Robots-Tag:noindex
X-PUBLISHED-TTL:PT1H
BEGIN:VTIMEZONE
TZID:Europe/Vienna
BEGIN:DAYLIGHT
TZOFFSETFROM:+0100
TZOFFSETTO:+0200
TZNAME:CEST
DTSTART:20240331T010000
END:DAYLIGHT
BEGIN:STANDARD
TZOFFSETFROM:+0200
TZOFFSETTO:+0100
TZNAME:CET
DTSTART:20241027T010000
END:STANDARD
BEGIN:DAYLIGHT
TZOFFSETFROM:+0100
TZOFFSETTO:+0200
TZNAME:CEST
DTSTART:20250330T010000
END:DAYLIGHT
BEGIN:STANDARD
TZOFFSETFROM:+0200
TZOFFSETTO:+0100
TZNAME:CET
DTSTART:20251026T010000
END:STANDARD
BEGIN:DAYLIGHT
TZOFFSETFROM:+0100
TZOFFSETTO:+0200
TZNAME:CEST
DTSTART:20260329T010000
END:DAYLIGHT
BEGIN:STANDARD
TZOFFSETFROM:+0200
TZOFFSETTO:+0100
TZNAME:CET
DTSTART:20261025T010000
END:STANDARD
END:VTIMEZONE
BEGIN:VEVENT
DTSTART;TZID=Europe/Vienna:20251003T200000
DTEND;TZID=Europe/Vienna:20251003T220000
DTSTAMP:20260425T021930
CREATED:20250522T150823Z
LAST-MODIFIED:20260414T160111Z
UID:10784-1759521600-1759528800@mk-wildermieming.at
SUMMARY:Platzkonzert
DESCRIPTION:
URL:https://mk-wildermieming.at/termin/probe-377/
LOCATION:Musikkapelle Wildermieming\, Dorfstraße 2\, Wildermieming\, Bezirk Innsbruck-Land\, 6413\, Österreich
END:VEVENT
BEGIN:VEVENT
DTSTART;TZID=Europe/Vienna:20251007T200000
DTEND;TZID=Europe/Vienna:20251007T220000
DTSTAMP:20260425T021930
CREATED:20250926T070052Z
LAST-MODIFIED:20251007T200111Z
UID:11044-1759867200-1759874400@mk-wildermieming.at
SUMMARY:Probe
DESCRIPTION:
URL:https://mk-wildermieming.at/termin/probe-473/
LOCATION:Musikkapelle Wildermieming\, Dorfstraße 2\, Wildermieming\, Bezirk Innsbruck-Land\, 6413\, Österreich
END:VEVENT
BEGIN:VEVENT
DTSTART;TZID=Europe/Vienna:20251017T200000
DTEND;TZID=Europe/Vienna:20251017T220000
DTSTAMP:20260425T021930
CREATED:20250522T150824Z
LAST-MODIFIED:20260414T160111Z
UID:10786-1760731200-1760738400@mk-wildermieming.at
SUMMARY:Probe
DESCRIPTION:
URL:https://mk-wildermieming.at/termin/probe-379/
LOCATION:Musikkapelle Wildermieming\, Dorfstraße 2\, Wildermieming\, Bezirk Innsbruck-Land\, 6413\, Österreich
END:VEVENT
BEGIN:VEVENT
DTSTART;TZID=Europe/Vienna:20251019T060000
DTEND;TZID=Europe/Vienna:20251019T210000
DTSTAMP:20260425T021930
CREATED:20250522T190057Z
LAST-MODIFIED:20250522T190057Z
UID:10874-1760853600-1760907600@mk-wildermieming.at
SUMMARY:Konzertreise nach Kartitsch
DESCRIPTION:
URL:https://mk-wildermieming.at/termin/konzertreise-nach-kartitsch/
LOCATION:Kartitsch\, Österreich\, Kartitsch\, Österreich
END:VEVENT
BEGIN:VEVENT
DTSTART;TZID=Europe/Vienna:20251031T200000
DTEND;TZID=Europe/Vienna:20251031T220000
DTSTAMP:20260425T021930
CREATED:20250522T150825Z
LAST-MODIFIED:20260414T160111Z
UID:10788-1761940800-1761948000@mk-wildermieming.at
SUMMARY:Probe
DESCRIPTION:
URL:https://mk-wildermieming.at/termin/probe-381/
LOCATION:Musikkapelle Wildermieming\, Dorfstraße 2\, Wildermieming\, Bezirk Innsbruck-Land\, 6413\, Österreich
END:VEVENT
END:VCALENDAR