BEGIN:VCALENDAR
VERSION:2.0
PRODID:-//Musikkapelle Wildermieming - ECPv6.15.11//NONSGML v1.0//EN
CALSCALE:GREGORIAN
METHOD:PUBLISH
X-WR-CALNAME:Musikkapelle Wildermieming
X-ORIGINAL-URL:https://mk-wildermieming.at
X-WR-CALDESC:Veranstaltungen für Musikkapelle Wildermieming
REFRESH-INTERVAL;VALUE=DURATION:PT1H
X-Robots-Tag:noindex
X-PUBLISHED-TTL:PT1H
BEGIN:VTIMEZONE
TZID:Europe/Vienna
BEGIN:DAYLIGHT
TZOFFSETFROM:+0100
TZOFFSETTO:+0200
TZNAME:CEST
DTSTART:20240331T010000
END:DAYLIGHT
BEGIN:STANDARD
TZOFFSETFROM:+0200
TZOFFSETTO:+0100
TZNAME:CET
DTSTART:20241027T010000
END:STANDARD
BEGIN:DAYLIGHT
TZOFFSETFROM:+0100
TZOFFSETTO:+0200
TZNAME:CEST
DTSTART:20250330T010000
END:DAYLIGHT
BEGIN:STANDARD
TZOFFSETFROM:+0200
TZOFFSETTO:+0100
TZNAME:CET
DTSTART:20251026T010000
END:STANDARD
BEGIN:DAYLIGHT
TZOFFSETFROM:+0100
TZOFFSETTO:+0200
TZNAME:CEST
DTSTART:20260329T010000
END:DAYLIGHT
BEGIN:STANDARD
TZOFFSETFROM:+0200
TZOFFSETTO:+0100
TZNAME:CET
DTSTART:20261025T010000
END:STANDARD
END:VTIMEZONE
BEGIN:VEVENT
DTSTART;TZID=Europe/Vienna:20251108T200000
DTEND;TZID=Europe/Vienna:20251108T220000
DTSTAMP:20260425T004031
CREATED:20250522T200055Z
LAST-MODIFIED:20250522T200055Z
UID:10987-1762632000-1762639200@mk-wildermieming.at
SUMMARY:Konzert des Ü40 Orchester Bezirksverband
DESCRIPTION:
URL:https://mk-wildermieming.at/termin/konzert-des-ue40-orchester-bezirksverband/
LOCATION:Gemeindesaal Hatting
END:VEVENT
BEGIN:VEVENT
DTSTART;TZID=Europe/Vienna:20251109T100000
DTEND;TZID=Europe/Vienna:20251109T110000
DTSTAMP:20260425T004031
CREATED:20250522T150759Z
LAST-MODIFIED:20250522T150759Z
UID:10739-1762682400-1762686000@mk-wildermieming.at
SUMMARY:Seelensonntag
DESCRIPTION:
URL:https://mk-wildermieming.at/termin/seelensonntag-10/
LOCATION:Pfarrkirche Hl. Nikolaus\, Dorfstraße 1\, Wildermieming\, Bezirk Innsbruck-Land\, 6413\, Österreich
END:VEVENT
BEGIN:VEVENT
DTSTART;TZID=Europe/Vienna:20251109T110000
DTEND;TZID=Europe/Vienna:20251109T130000
DTSTAMP:20260425T004031
CREATED:20250522T150800Z
LAST-MODIFIED:20250522T150800Z
UID:10742-1762686000-1762693200@mk-wildermieming.at
SUMMARY:Jahreshauptversammlung
DESCRIPTION:
URL:https://mk-wildermieming.at/termin/jahreshauptversammlung-10/
LOCATION:Wildermieming Gemeindeamt\, Dorfstraße \, Wildermieming\, Bezirk Innsbruck-Land\, 6413\, Österreich
END:VEVENT
BEGIN:VEVENT
DTSTART;TZID=Europe/Vienna:20251114T200000
DTEND;TZID=Europe/Vienna:20251114T220000
DTSTAMP:20260425T004031
CREATED:20250522T150826Z
LAST-MODIFIED:20260414T160111Z
UID:10790-1763150400-1763157600@mk-wildermieming.at
SUMMARY:Probe
DESCRIPTION:
URL:https://mk-wildermieming.at/termin/probe-383/
LOCATION:Musikkapelle Wildermieming\, Dorfstraße 2\, Wildermieming\, Bezirk Innsbruck-Land\, 6413\, Österreich
END:VEVENT
BEGIN:VEVENT
DTSTART;TZID=Europe/Vienna:20251121T200000
DTEND;TZID=Europe/Vienna:20251121T220000
DTSTAMP:20260425T004031
CREATED:20250522T150827Z
LAST-MODIFIED:20260414T160112Z
UID:10791-1763755200-1763762400@mk-wildermieming.at
SUMMARY:Probe
DESCRIPTION:
URL:https://mk-wildermieming.at/termin/probe-384/
LOCATION:Musikkapelle Wildermieming\, Dorfstraße 2\, Wildermieming\, Bezirk Innsbruck-Land\, 6413\, Österreich
END:VEVENT
BEGIN:VEVENT
DTSTART;TZID=Europe/Vienna:20251123T100000
DTEND;TZID=Europe/Vienna:20251123T110000
DTSTAMP:20260425T004031
CREATED:20250522T150759Z
LAST-MODIFIED:20250522T150759Z
UID:10740-1763892000-1763895600@mk-wildermieming.at
SUMMARY:Cäcilia-Messe
DESCRIPTION:
URL:https://mk-wildermieming.at/termin/caecilia-messe-9/
LOCATION:Wildermieming Gemeindeamt\, Dorfstraße \, Wildermieming\, Bezirk Innsbruck-Land\, 6413\, Österreich
END:VEVENT
BEGIN:VEVENT
DTSTART;TZID=Europe/Vienna:20251123T110000
DTEND;TZID=Europe/Vienna:20251123T180000
DTSTAMP:20260425T004031
CREATED:20250522T150759Z
LAST-MODIFIED:20250522T150759Z
UID:10741-1763895600-1763920800@mk-wildermieming.at
SUMMARY:Cäcilia-Feier
DESCRIPTION:
URL:https://mk-wildermieming.at/termin/caecilia-feier-8/
LOCATION:Wildermieming Gemeindeamt\, Dorfstraße \, Wildermieming\, Bezirk Innsbruck-Land\, 6413\, Österreich
END:VEVENT
END:VCALENDAR