BEGIN:VCALENDAR
VERSION:2.0
PRODID:-//Musikkapelle Wildermieming - ECPv6.15.11//NONSGML v1.0//EN
CALSCALE:GREGORIAN
METHOD:PUBLISH
X-ORIGINAL-URL:https://mk-wildermieming.at
X-WR-CALDESC:Veranstaltungen für Musikkapelle Wildermieming
REFRESH-INTERVAL;VALUE=DURATION:PT1H
X-Robots-Tag:noindex
X-PUBLISHED-TTL:PT1H
BEGIN:VTIMEZONE
TZID:Europe/Vienna
BEGIN:DAYLIGHT
TZOFFSETFROM:+0100
TZOFFSETTO:+0200
TZNAME:CEST
DTSTART:20250330T010000
END:DAYLIGHT
BEGIN:STANDARD
TZOFFSETFROM:+0200
TZOFFSETTO:+0100
TZNAME:CET
DTSTART:20251026T010000
END:STANDARD
BEGIN:DAYLIGHT
TZOFFSETFROM:+0100
TZOFFSETTO:+0200
TZNAME:CEST
DTSTART:20260329T010000
END:DAYLIGHT
BEGIN:STANDARD
TZOFFSETFROM:+0200
TZOFFSETTO:+0100
TZNAME:CET
DTSTART:20261025T010000
END:STANDARD
BEGIN:DAYLIGHT
TZOFFSETFROM:+0100
TZOFFSETTO:+0200
TZNAME:CEST
DTSTART:20270328T010000
END:DAYLIGHT
BEGIN:STANDARD
TZOFFSETFROM:+0200
TZOFFSETTO:+0100
TZNAME:CET
DTSTART:20271031T010000
END:STANDARD
END:VTIMEZONE
BEGIN:VEVENT
DTSTART;TZID=Europe/Vienna:20260109T200000
DTEND;TZID=Europe/Vienna:20260109T220000
DTSTAMP:20260424T214216
CREATED:20250522T150831Z
LAST-MODIFIED:20260414T160112Z
UID:10798-1767988800-1767996000@mk-wildermieming.at
SUMMARY:Probe
DESCRIPTION:
URL:https://mk-wildermieming.at/termin/probe-391/
LOCATION:Musikkapelle Wildermieming\, Dorfstraße 2\, Wildermieming\, Bezirk Innsbruck-Land\, 6413\, Österreich
END:VEVENT
BEGIN:VEVENT
DTSTART;TZID=Europe/Vienna:20260113T190000
DTEND;TZID=Europe/Vienna:20260113T203000
DTSTAMP:20260424T214216
CREATED:20260109T220111Z
LAST-MODIFIED:20260126T110145Z
UID:11146-1768330800-1768336200@mk-wildermieming.at
SUMMARY:Teilprobe Holz
DESCRIPTION:
URL:https://mk-wildermieming.at/termin/teilprobe-holz-24/
LOCATION:Musikkapelle Wildermieming\, Dorfstraße 2\, Wildermieming\, Bezirk Innsbruck-Land\, 6413\, Österreich
END:VEVENT
BEGIN:VEVENT
DTSTART;TZID=Europe/Vienna:20260113T203000
DTEND;TZID=Europe/Vienna:20260113T220000
DTSTAMP:20260424T214216
CREATED:20260109T220114Z
LAST-MODIFIED:20260126T110145Z
UID:11160-1768336200-1768341600@mk-wildermieming.at
SUMMARY:Teilprobe Blech
DESCRIPTION:
URL:https://mk-wildermieming.at/termin/teilprobe-blech-14/
LOCATION:Musikkapelle Wildermieming\, Dorfstraße 2\, Wildermieming\, Bezirk Innsbruck-Land\, 6413\, Österreich
END:VEVENT
BEGIN:VEVENT
DTSTART;TZID=Europe/Vienna:20260116T200000
DTEND;TZID=Europe/Vienna:20260116T220000
DTSTAMP:20260424T214216
CREATED:20250522T150832Z
LAST-MODIFIED:20260414T160113Z
UID:10799-1768593600-1768600800@mk-wildermieming.at
SUMMARY:Marschierprobe
DESCRIPTION:
URL:https://mk-wildermieming.at/termin/probe-392/
LOCATION:Volksschule Wildermieming\, Unterwegs 4\, Wildermieming\, Bezirk Innsbruck-Land\, 6413\, Österreich
END:VEVENT
BEGIN:VEVENT
DTSTART;TZID=Europe/Vienna:20260120T190000
DTEND;TZID=Europe/Vienna:20260120T203000
DTSTAMP:20260424T214216
CREATED:20260109T220111Z
LAST-MODIFIED:20260126T110145Z
UID:11147-1768935600-1768941000@mk-wildermieming.at
SUMMARY:Teilprobe Holz
DESCRIPTION:
URL:https://mk-wildermieming.at/termin/teilprobe-holz-25/
LOCATION:Musikkapelle Wildermieming\, Dorfstraße 2\, Wildermieming\, Bezirk Innsbruck-Land\, 6413\, Österreich
END:VEVENT
BEGIN:VEVENT
DTSTART;TZID=Europe/Vienna:20260120T203000
DTEND;TZID=Europe/Vienna:20260120T220000
DTSTAMP:20260424T214216
CREATED:20260109T220115Z
LAST-MODIFIED:20260126T110146Z
UID:11161-1768941000-1768946400@mk-wildermieming.at
SUMMARY:Teilprobe Blech
DESCRIPTION:
URL:https://mk-wildermieming.at/termin/teilprobe-blech-15/
LOCATION:Musikkapelle Wildermieming\, Dorfstraße 2\, Wildermieming\, Bezirk Innsbruck-Land\, 6413\, Österreich
END:VEVENT
BEGIN:VEVENT
DTSTART;TZID=Europe/Vienna:20260123T200000
DTEND;TZID=Europe/Vienna:20260123T220000
DTSTAMP:20260424T214216
CREATED:20250522T150833Z
LAST-MODIFIED:20260414T160113Z
UID:10800-1769198400-1769205600@mk-wildermieming.at
SUMMARY:Marschierprobe
DESCRIPTION:
URL:https://mk-wildermieming.at/termin/probe-393/
LOCATION:Volksschule Wildermieming\, Unterwegs 4\, Wildermieming\, Bezirk Innsbruck-Land\, 6413\, Österreich
END:VEVENT
BEGIN:VEVENT
DTSTART;TZID=Europe/Vienna:20260127T190000
DTEND;TZID=Europe/Vienna:20260127T203000
DTSTAMP:20260424T214216
CREATED:20260109T220111Z
LAST-MODIFIED:20260126T110145Z
UID:11148-1769540400-1769545800@mk-wildermieming.at
SUMMARY:Teilprobe Holz
DESCRIPTION:
URL:https://mk-wildermieming.at/termin/teilprobe-holz-26/
LOCATION:Musikkapelle Wildermieming\, Dorfstraße 2\, Wildermieming\, Bezirk Innsbruck-Land\, 6413\, Österreich
END:VEVENT
BEGIN:VEVENT
DTSTART;TZID=Europe/Vienna:20260127T190000
DTEND;TZID=Europe/Vienna:20260127T203000
DTSTAMP:20260424T214216
CREATED:20260126T080122Z
LAST-MODIFIED:20260126T110140Z
UID:11196-1769540400-1769545800@mk-wildermieming.at
SUMMARY:Teilprobe Blech
DESCRIPTION:
URL:https://mk-wildermieming.at/termin/teilprobe-blech-28/
LOCATION:Musikkapelle Wildermieming\, Dorfstraße 2\, Wildermieming\, Bezirk Innsbruck-Land\, 6413\, Österreich
END:VEVENT
BEGIN:VEVENT
DTSTART;TZID=Europe/Vienna:20260127T203000
DTEND;TZID=Europe/Vienna:20260127T220000
DTSTAMP:20260424T214216
CREATED:20260109T220115Z
LAST-MODIFIED:20260126T110146Z
UID:11162-1769545800-1769551200@mk-wildermieming.at
SUMMARY:Teilprobe Blech
DESCRIPTION:
URL:https://mk-wildermieming.at/termin/teilprobe-blech-16/
LOCATION:Musikkapelle Wildermieming\, Dorfstraße 2\, Wildermieming\, Bezirk Innsbruck-Land\, 6413\, Österreich
END:VEVENT
BEGIN:VEVENT
DTSTART;TZID=Europe/Vienna:20260127T203000
DTEND;TZID=Europe/Vienna:20260127T220000
DTSTAMP:20260424T214216
CREATED:20260126T080125Z
LAST-MODIFIED:20260126T110146Z
UID:11211-1769545800-1769551200@mk-wildermieming.at
SUMMARY:Teilprobe Holz
DESCRIPTION:
URL:https://mk-wildermieming.at/termin/teilprobe-holz-38/
LOCATION:Musikkapelle Wildermieming\, Dorfstraße 2\, Wildermieming\, Bezirk Innsbruck-Land\, 6413\, Österreich
END:VEVENT
BEGIN:VEVENT
DTSTART;TZID=Europe/Vienna:20260130T200000
DTEND;TZID=Europe/Vienna:20260130T220000
DTSTAMP:20260424T214216
CREATED:20250522T150833Z
LAST-MODIFIED:20260414T160113Z
UID:10801-1769803200-1769810400@mk-wildermieming.at
SUMMARY:Probe
DESCRIPTION:
URL:https://mk-wildermieming.at/termin/probe-394/
LOCATION:Musikkapelle Wildermieming\, Dorfstraße 2\, Wildermieming\, Bezirk Innsbruck-Land\, 6413\, Österreich
END:VEVENT
BEGIN:VEVENT
DTSTART;TZID=Europe/Vienna:20260130T200000
DTEND;TZID=Europe/Vienna:20260131T030000
DTSTAMP:20260424T214216
CREATED:20251111T080147Z
LAST-MODIFIED:20260128T210147Z
UID:11081-1769803200-1769828400@mk-wildermieming.at
SUMMARY:Fasnachtswagen
DESCRIPTION:
URL:https://mk-wildermieming.at/termin/fasnachtswagen-3/
LOCATION:Gemeindeamt\, Dorfstraße 2\, Wildermieming\, Bezirk Innsbruck-Land\, 6413\, Österreich
END:VEVENT
BEGIN:VEVENT
DTSTART;TZID=Europe/Vienna:20260131T200000
DTEND;TZID=Europe/Vienna:20260201T030000
DTSTAMP:20260424T214216
CREATED:20251111T080146Z
LAST-MODIFIED:20260128T210146Z
UID:11078-1769889600-1769914800@mk-wildermieming.at
SUMMARY:Fasnachtswagen
DESCRIPTION:
URL:https://mk-wildermieming.at/termin/fasnachtswagen/
LOCATION:Gemeindeamt\, Dorfstraße 2\, Wildermieming\, Bezirk Innsbruck-Land\, 6413\, Österreich
END:VEVENT
END:VCALENDAR