BEGIN:VCALENDAR
VERSION:2.0
PRODID:-//Musikkapelle Wildermieming - ECPv6.15.11//NONSGML v1.0//EN
CALSCALE:GREGORIAN
METHOD:PUBLISH
X-ORIGINAL-URL:https://mk-wildermieming.at
X-WR-CALDESC:Veranstaltungen für Musikkapelle Wildermieming
REFRESH-INTERVAL;VALUE=DURATION:PT1H
X-Robots-Tag:noindex
X-PUBLISHED-TTL:PT1H
BEGIN:VTIMEZONE
TZID:Europe/Vienna
BEGIN:DAYLIGHT
TZOFFSETFROM:+0100
TZOFFSETTO:+0200
TZNAME:CEST
DTSTART:20250330T010000
END:DAYLIGHT
BEGIN:STANDARD
TZOFFSETFROM:+0200
TZOFFSETTO:+0100
TZNAME:CET
DTSTART:20251026T010000
END:STANDARD
BEGIN:DAYLIGHT
TZOFFSETFROM:+0100
TZOFFSETTO:+0200
TZNAME:CEST
DTSTART:20260329T010000
END:DAYLIGHT
BEGIN:STANDARD
TZOFFSETFROM:+0200
TZOFFSETTO:+0100
TZNAME:CET
DTSTART:20261025T010000
END:STANDARD
BEGIN:DAYLIGHT
TZOFFSETFROM:+0100
TZOFFSETTO:+0200
TZNAME:CEST
DTSTART:20270328T010000
END:DAYLIGHT
BEGIN:STANDARD
TZOFFSETFROM:+0200
TZOFFSETTO:+0100
TZNAME:CET
DTSTART:20271031T010000
END:STANDARD
END:VTIMEZONE
BEGIN:VEVENT
DTSTART;TZID=Europe/Vienna:20260501T200000
DTEND;TZID=Europe/Vienna:20260501T220000
DTSTAMP:20260424T190211
CREATED:20260423T160100Z
LAST-MODIFIED:20260423T160100Z
UID:11386-1777665600-1777672800@mk-wildermieming.at
SUMMARY:Probe
DESCRIPTION:
URL:https://mk-wildermieming.at/termin/probe-501/
LOCATION:Musikkapelle Wildermieming\, Dorfstraße 2\, Wildermieming\, Bezirk Innsbruck-Land\, 6413\, Österreich
END:VEVENT
BEGIN:VEVENT
DTSTART;TZID=Europe/Vienna:20260502T093000
DTEND;TZID=Europe/Vienna:20260502T120000
DTSTAMP:20260424T190211
CREATED:20260320T110105Z
LAST-MODIFIED:20260324T130104Z
UID:11351-1777714200-1777723200@mk-wildermieming.at
SUMMARY:Tag des offenen Probelokals
DESCRIPTION:
URL:https://mk-wildermieming.at/termin/tag-der-offenen-tuer/
LOCATION:Musikkapelle Wildermieming\, Dorfstraße 2\, Wildermieming\, Bezirk Innsbruck-Land\, 6413\, Österreich
END:VEVENT
BEGIN:VEVENT
DTSTART;TZID=Europe/Vienna:20260503T100000
DTEND;TZID=Europe/Vienna:20260503T110000
DTSTAMP:20260424T190211
CREATED:20251111T080147Z
LAST-MODIFIED:20251111T080147Z
UID:11082-1777802400-1777806000@mk-wildermieming.at
SUMMARY:Floriani
DESCRIPTION:
URL:https://mk-wildermieming.at/termin/floriani-10/
LOCATION:Gemeindeamt\, Dorfstraße 2\, Wildermieming\, Bezirk Innsbruck-Land\, 6413\, Österreich
END:VEVENT
BEGIN:VEVENT
DTSTART;TZID=Europe/Vienna:20260508T200000
DTEND;TZID=Europe/Vienna:20260508T220000
DTSTAMP:20260424T190211
CREATED:20250522T150841Z
LAST-MODIFIED:20260414T160115Z
UID:10815-1778270400-1778277600@mk-wildermieming.at
SUMMARY:Probe
DESCRIPTION:
URL:https://mk-wildermieming.at/termin/probe-408/
LOCATION:Musikkapelle Wildermieming\, Dorfstraße 2\, Wildermieming\, Bezirk Innsbruck-Land\, 6413\, Österreich
END:VEVENT
BEGIN:VEVENT
DTSTART;TZID=Europe/Vienna:20260509T180000
DTEND;TZID=Europe/Vienna:20260509T190000
DTSTAMP:20260424T190211
CREATED:20251111T080148Z
LAST-MODIFIED:20251111T080148Z
UID:11086-1778349600-1778353200@mk-wildermieming.at
SUMMARY:Muttertagskonzert Jugendmusik
DESCRIPTION:
URL:https://mk-wildermieming.at/termin/muttertagskonzert-jugendmusik-4/
LOCATION:Gemeindeamt\, Dorfstraße 2\, Wildermieming\, Bezirk Innsbruck-Land\, 6413\, Österreich
END:VEVENT
BEGIN:VEVENT
DTSTART;TZID=Europe/Vienna:20260515T200000
DTEND;TZID=Europe/Vienna:20260515T220000
DTSTAMP:20260424T190211
CREATED:20250522T150841Z
LAST-MODIFIED:20260414T160115Z
UID:10816-1778875200-1778882400@mk-wildermieming.at
SUMMARY:Probe
DESCRIPTION:
URL:https://mk-wildermieming.at/termin/probe-409/
LOCATION:Musikkapelle Wildermieming\, Dorfstraße 2\, Wildermieming\, Bezirk Innsbruck-Land\, 6413\, Österreich
END:VEVENT
BEGIN:VEVENT
DTSTART;TZID=Europe/Vienna:20260516T090000
DTEND;TZID=Europe/Vienna:20260516T110000
DTSTAMP:20260424T190211
CREATED:20251111T080145Z
LAST-MODIFIED:20251111T080145Z
UID:11076-1778922000-1778929200@mk-wildermieming.at
SUMMARY:Firmung
DESCRIPTION:
URL:https://mk-wildermieming.at/termin/firmung-11/
LOCATION:Pfarrkirche Hl. Nikolaus\, Dorfstraße 1\, Wildermieming\, Bezirk Innsbruck-Land\, 6413\, Österreich
END:VEVENT
BEGIN:VEVENT
DTSTART;TZID=Europe/Vienna:20260522T200000
DTEND;TZID=Europe/Vienna:20260522T220000
DTSTAMP:20260424T190211
CREATED:20250522T150841Z
LAST-MODIFIED:20260414T160116Z
UID:10817-1779480000-1779487200@mk-wildermieming.at
SUMMARY:Probe
DESCRIPTION:
URL:https://mk-wildermieming.at/termin/probe-410/
LOCATION:Musikkapelle Wildermieming\, Dorfstraße 2\, Wildermieming\, Bezirk Innsbruck-Land\, 6413\, Österreich
END:VEVENT
BEGIN:VEVENT
DTSTART;TZID=Europe/Vienna:20260529T200000
DTEND;TZID=Europe/Vienna:20260529T220000
DTSTAMP:20260424T190211
CREATED:20250522T150842Z
LAST-MODIFIED:20260414T160116Z
UID:10818-1780084800-1780092000@mk-wildermieming.at
SUMMARY:Probe
DESCRIPTION:
URL:https://mk-wildermieming.at/termin/probe-411/
LOCATION:Musikkapelle Wildermieming\, Dorfstraße 2\, Wildermieming\, Bezirk Innsbruck-Land\, 6413\, Österreich
END:VEVENT
END:VCALENDAR