BEGIN:VCALENDAR
VERSION:2.0
PRODID:-//Musikkapelle Wildermieming - ECPv6.15.11//NONSGML v1.0//EN
CALSCALE:GREGORIAN
METHOD:PUBLISH
X-WR-CALNAME:Musikkapelle Wildermieming
X-ORIGINAL-URL:https://mk-wildermieming.at
X-WR-CALDESC:Veranstaltungen für Musikkapelle Wildermieming
REFRESH-INTERVAL;VALUE=DURATION:PT1H
X-Robots-Tag:noindex
X-PUBLISHED-TTL:PT1H
BEGIN:VTIMEZONE
TZID:Europe/Vienna
BEGIN:DAYLIGHT
TZOFFSETFROM:+0100
TZOFFSETTO:+0200
TZNAME:CEST
DTSTART:20250330T010000
END:DAYLIGHT
BEGIN:STANDARD
TZOFFSETFROM:+0200
TZOFFSETTO:+0100
TZNAME:CET
DTSTART:20251026T010000
END:STANDARD
BEGIN:DAYLIGHT
TZOFFSETFROM:+0100
TZOFFSETTO:+0200
TZNAME:CEST
DTSTART:20260329T010000
END:DAYLIGHT
BEGIN:STANDARD
TZOFFSETFROM:+0200
TZOFFSETTO:+0100
TZNAME:CET
DTSTART:20261025T010000
END:STANDARD
BEGIN:DAYLIGHT
TZOFFSETFROM:+0100
TZOFFSETTO:+0200
TZNAME:CEST
DTSTART:20270328T010000
END:DAYLIGHT
BEGIN:STANDARD
TZOFFSETFROM:+0200
TZOFFSETTO:+0100
TZNAME:CET
DTSTART:20271031T010000
END:STANDARD
END:VTIMEZONE
BEGIN:VEVENT
DTSTART;TZID=Europe/Vienna:20261204T200000
DTEND;TZID=Europe/Vienna:20261204T220000
DTSTAMP:20260425T051705
CREATED:20250522T150854Z
LAST-MODIFIED:20260414T160121Z
UID:10845-1796414400-1796421600@mk-wildermieming.at
SUMMARY:Probe
DESCRIPTION:
URL:https://mk-wildermieming.at/termin/probe-438/
LOCATION:Musikkapelle Wildermieming\, Dorfstraße 2\, Wildermieming\, Bezirk Innsbruck-Land\, 6413\, Österreich
END:VEVENT
BEGIN:VEVENT
DTSTART;TZID=Europe/Vienna:20261206T190000
DTEND;TZID=Europe/Vienna:20261206T200000
DTSTAMP:20260425T051705
CREATED:20250522T150435Z
LAST-MODIFIED:20250522T150435Z
UID:10314-1796583600-1796587200@mk-wildermieming.at
SUMMARY:Kirchenpatrozinium
DESCRIPTION:
URL:https://mk-wildermieming.at/termin/kirchenpatrozinium-7/
LOCATION:Pfarrkirche Hl. Nikolaus\, Dorfstraße 1\, Wildermieming\, Bezirk Innsbruck-Land\, 6413\, Österreich
END:VEVENT
BEGIN:VEVENT
DTSTART;TZID=Europe/Vienna:20261211T200000
DTEND;TZID=Europe/Vienna:20261211T220000
DTSTAMP:20260425T051705
CREATED:20250522T150854Z
LAST-MODIFIED:20260414T160121Z
UID:10846-1797019200-1797026400@mk-wildermieming.at
SUMMARY:Probe
DESCRIPTION:
URL:https://mk-wildermieming.at/termin/probe-439/
LOCATION:Musikkapelle Wildermieming\, Dorfstraße 2\, Wildermieming\, Bezirk Innsbruck-Land\, 6413\, Österreich
END:VEVENT
BEGIN:VEVENT
DTSTART;TZID=Europe/Vienna:20261218T200000
DTEND;TZID=Europe/Vienna:20261218T220000
DTSTAMP:20260425T051705
CREATED:20250522T150855Z
LAST-MODIFIED:20260414T160121Z
UID:10847-1797624000-1797631200@mk-wildermieming.at
SUMMARY:Probe
DESCRIPTION:
URL:https://mk-wildermieming.at/termin/probe-440/
LOCATION:Musikkapelle Wildermieming\, Dorfstraße 2\, Wildermieming\, Bezirk Innsbruck-Land\, 6413\, Österreich
END:VEVENT
BEGIN:VEVENT
DTSTART;TZID=Europe/Vienna:20261219T180000
DTEND;TZID=Europe/Vienna:20261219T190000
DTSTAMP:20260425T051705
CREATED:20251111T090153Z
LAST-MODIFIED:20251111T090153Z
UID:11092-1797703200-1797706800@mk-wildermieming.at
SUMMARY:Adventfenster
DESCRIPTION:
URL:https://mk-wildermieming.at/termin/adventfenster-7/
LOCATION:Musikkapelle Wildermieming\, Dorfstraße 2\, Wildermieming\, Bezirk Innsbruck-Land\, 6413\, Österreich
END:VEVENT
BEGIN:VEVENT
DTSTART;TZID=Europe/Vienna:20261225T200000
DTEND;TZID=Europe/Vienna:20261225T220000
DTSTAMP:20260425T051705
CREATED:20250522T150856Z
LAST-MODIFIED:20260414T160122Z
UID:10848-1798228800-1798236000@mk-wildermieming.at
SUMMARY:Probe
DESCRIPTION:
URL:https://mk-wildermieming.at/termin/probe-441/
LOCATION:Musikkapelle Wildermieming\, Dorfstraße 2\, Wildermieming\, Bezirk Innsbruck-Land\, 6413\, Österreich
END:VEVENT
END:VCALENDAR